BEGIN:VCALENDAR
VERSION:2.0
PRODID:-//Sinologie Göttingen - ECPv6.15.20//NONSGML v1.0//EN
CALSCALE:GREGORIAN
METHOD:PUBLISH
X-WR-CALNAME:Sinologie Göttingen
X-ORIGINAL-URL:https://www.sinologie-goettingen.de
X-WR-CALDESC:Veranstaltungen für Sinologie Göttingen
REFRESH-INTERVAL;VALUE=DURATION:PT1H
X-Robots-Tag:noindex
X-PUBLISHED-TTL:PT1H
BEGIN:VTIMEZONE
TZID:Europe/Helsinki
BEGIN:DAYLIGHT
TZOFFSETFROM:+0200
TZOFFSETTO:+0300
TZNAME:EEST
DTSTART:20230326T010000
END:DAYLIGHT
BEGIN:STANDARD
TZOFFSETFROM:+0300
TZOFFSETTO:+0200
TZNAME:EET
DTSTART:20231029T010000
END:STANDARD
BEGIN:DAYLIGHT
TZOFFSETFROM:+0200
TZOFFSETTO:+0300
TZNAME:EEST
DTSTART:20240331T010000
END:DAYLIGHT
BEGIN:STANDARD
TZOFFSETFROM:+0300
TZOFFSETTO:+0200
TZNAME:EET
DTSTART:20241027T010000
END:STANDARD
BEGIN:DAYLIGHT
TZOFFSETFROM:+0200
TZOFFSETTO:+0300
TZNAME:EEST
DTSTART:20250330T010000
END:DAYLIGHT
BEGIN:STANDARD
TZOFFSETFROM:+0300
TZOFFSETTO:+0200
TZNAME:EET
DTSTART:20251026T010000
END:STANDARD
END:VTIMEZONE
BEGIN:VEVENT
DTSTART;TZID=Europe/Helsinki:20240703T190000
DTEND;TZID=Europe/Helsinki:20240703T203000
DTSTAMP:20260421T133748
CREATED:20240617T072455Z
LAST-MODIFIED:20240617T072455Z
UID:35697-1720033200-1720038600@www.sinologie-goettingen.de
SUMMARY:Jürgen Trittin und Susanne Weigelin-Schwiedrzik im Gespräch: China und die Neuordnung der Welt
DESCRIPTION:Podiumsdiskussion: China und die Neuordnung der Welt\nJürgen Trittin & Susanne Weigelin-Schwiedrzik\nDatum: 3. Juli 2024\nZeit: 19:00 \nOrt: Alfred-Hessel-Saal\, Historisches Gebäude der SUB\, Papendiek 14\, 37073 Göttingen \nDer Eintritt ist frei! \nTeilnehmerInnen: \n\nJürgen Trittin: Bündnis 90/Die Grünen\, ehemaliges Mitglied des Bundestages und ehemaliger Bundesminister für Umwelt\, Naturschutz und Reaktorsicherheit\nProf. i.R. Dr. Susanne Weigelin-Schwiedrzik: Sinologin und emeritierte Professorin an der Universität Wien\n\nNeue Publikation von Prof. Dr. Susanne Weigelin-Schwiedrzik: Weigelin-Schwiedrzik\, Susanne. 2023. China und die Neuordnung der Welt. Brandstätter. \nModerator: Prof. Dr. Axel Schneider (Ostasiatisches Seminar\, Universität Göttingen) \nVeranstalter: Ostasiatisches Seminar & Centre for Modern East Asian Studies (CeMEAS) \nDie Veranstaltung wird live auf Zoom gestreamt: https://uni-goettingen.zoom-x.de/j/66787439209 \n \n\nPortraitfoto Jürgen Trittin: © Laurence Chaperon\, Bild: Generiert mit KI\, masterofmoments adobestock \nPortraitfoto Susanne Weigelin-Schwiedrzik: Christoph Glanzl \n\n\n\n\n\n 
URL:https://www.sinologie-goettingen.de/veranstaltung/juergen-trittin-und-susanne-weigelin-schwiedrzik-im-gespraech-china-und-die-neuordnung-der-welt/
ATTACH;FMTTYPE=image/jpeg:https://www.sinologie-goettingen.de/wp-content/uploads/2024/06/Picture1-1355x1020-1.jpg
END:VEVENT
BEGIN:VEVENT
DTSTART;TZID=Europe/Helsinki:20240705T113000
DTEND;TZID=Europe/Helsinki:20240705T123000
DTSTAMP:20260421T133748
CREATED:20240619T094226Z
LAST-MODIFIED:20240619T094226Z
UID:35711-1720179000-1720182600@www.sinologie-goettingen.de
SUMMARY:Zhang Hanwen (Artist/Filmmaker; Berlin): Defection\, Exile\, and Utopia: Pan-Asianist Bodies and Legacies
DESCRIPTION:Zhang Hanwen (Artist/Filmmaker; Berlin)\nDefection\, Exile\, and Utopia: Pan-Asianist Bodies and Legacies \nEmmy-Noether Saal\, Wilhelmsplatz\n5. July (Friday)\, 11:30-12:30 \nAbstract:\nThe artist and filmmaker Zhang Hanwen will present his recent work\, “Hostile Landscapes”\, a two-channel installation film initiated in 2022\, and related research. The project revolves around the true story of Jhu Hyeun-ken (朱贤健/주현건)\, a North Korean defector imprisoned in the Jilin Prison in Northeast China for illegal border-crossing since 2013. Jhu managed to escape from the prison on October 18th\, 2021\, with bare hands. After eluding local police and authorities for 40 days\, Jhu was ultimately shot in the leg and apprehended near the Fengman Dam and Reservoir\, a historically significant location with deep Japanese colonial ties. The presentation will explore notions related to Chinese/Asian identities\, and their connections to nationalism and colonialism\, within the framework of contemporary and modern East Asian history\, navigating the geopolitical shifts of the past and the present. \nSpeaker: \nZhang Hanwen is an artist and filmmaker originally from Changchun\, China\, who has been wandering nomadically across Germany lately. Drawing from artistic research and field studies\, his work examines specific landscapes\, infrastructures\, and mundane activities through images and texts\, weaving them within a network of local\, personal\, transnational\, historical\, and ideological contexts. His recent research revolves around marginalized individuals’ exile\, troublesome colonial heritage\, and secret society activities against the backdrop of East Asian modern/contemporary history. Zhang holds an MFA from the School of Visual Arts\, New York\, and has participated in various artist-in-residencies and fellowship programs including the German Chancellor Fellowship (Bonn\, 2025)\, the Braunschweig Projects (Braunschweig\, 2023)\, the Oberhausen Seminar (Oberhausen\, 2023)\, the Fosun Foundation Art Residency (Shanghai\, 2021)\, the BRIClab Video Art Residency (New York\, 2020)\, etc. His work has been exhibited and screened at venues such as the Power Station of Art in Shanghai\, the OCAT Institute in Beijing\, BY ART MATTERS in Hangzhou\, the CACHE Space in Beijing\, as well as at film festivals including the Beijing International Short Film Festival and BBC LongShots. In 2020\, Zhang’s film “The First Line of China” was awarded the SAH Award for Film and Video. \nOrganizer: \nProf. Dominic Sachsenmaier\, University of Göttingen
URL:https://www.sinologie-goettingen.de/veranstaltung/zhang-hanwen-artist-filmmaker-berlin-defection-exile-and-utopia-pan-asianist-bodies-and-legacies/
LOCATION:Emmy-Noether-Saal\, Tagungs-und Veranstaltungshaus Alte Mensa\, Wilhelmsplatz
END:VEVENT
BEGIN:VEVENT
DTSTART;TZID=Europe/Helsinki:20240715T180000
DTEND;TZID=Europe/Helsinki:20240715T200000
DTSTAMP:20260421T133748
CREATED:20240524T071336Z
LAST-MODIFIED:20240524T071336Z
UID:35630-1721066400-1721073600@www.sinologie-goettingen.de
SUMMARY:Lecture: Prof. Song Chen (Bucknell University): Connecting the Dots:  Advancing Chinese Historical Studies through Social Network Analysis
DESCRIPTION:In recent years\, an increasing number of scholars have actively explored how social network analysis (SNA) may advance the understanding of Chinese history and literature. These explorations have underscored the pressing need for methodological reflections and the most appropriate subjects for network analysis. Drawing on my research in the areas of prosopography and local religion\, this talk discusses the potentials and pitfalls in the application of SNA to historical studies. Using elite marriages in eleventh- and thirteenth-century China as an example\, the first part of this talk explores how SNA breaks new ground in prosopographical research\, directing attention from the “common background characteristics” of a historical population to the patterned relationships knitting together the members of that population. The second part of this talk addresses the tendency to conflate social networks as a subject of inquiry with social network analysis as a method of data modeling. This confusion often leads to flawed research designs at the onset of a project\, skewing data collection and hampering subsequent analyses. It also results in missed opportunities where scholars overlook potential research projects that seem unrelated to SNA but could greatly benefit from its analytical capabilities. As an illustration\, insights will be shared from my recent work that employs SNA to unveil patterns in the spatial distribution of temple cults in the Lower Yangzi during the thirteenth century. \nBiography:\nSong Chen received his Ph.D. in East Asian Languages and Civilizations from Harvard University in 2011 and is currently an Associate Professor of Chinese History in the Department of East Asian Studies at Bucknell University\, USA. His research focuses on Chinese social and cultural history between the eighth and the eighteenth century. For many years his work has focused on the migration and marriage patterns of China’s ruling elite in these centuries. Recently he is expanding the scope of his study to popular religion. He uses digital methods extensively in his teaching and scholarship. He is the inaugural project manager of the China Biographical Database project (CBDB)\, and has served on the project’s Steering and Executive Committees since 2011. His research combines prosopography\, network analysis\, and historical GIS. In 2021 and 2022\, he co-edited\, with Henrike Rudolph and Zhao Wei\, two special journal issues that feature cutting-edge digital scholarship in Chinese studies. He has given research talks and taught digital humanities workshops at Harvard\, Stanford\, Cornell\, National Taiwan University\, Peking University\, Tsinghua University (Beijing)\, Shanghai Normal University\, National University of Singapore\, among others.
URL:https://www.sinologie-goettingen.de/veranstaltung/lecture-prof-song-chen-bucknell-university-connecting-the-dots-advancing-chinese-historical-studies-through-social-network-analysis/
LOCATION:Kulturwissenschaftliches Zentrum\, KWZ 0.607\, Heinrich-Düker-Weg 14\, Göttingen\, 37073
END:VEVENT
END:VCALENDAR