BEGIN:VCALENDAR
VERSION:2.0
PRODID:-//Sinologie Göttingen - ECPv6.15.20//NONSGML v1.0//EN
CALSCALE:GREGORIAN
METHOD:PUBLISH
X-WR-CALNAME:Sinologie Göttingen
X-ORIGINAL-URL:https://www.sinologie-goettingen.de
X-WR-CALDESC:Veranstaltungen für Sinologie Göttingen
REFRESH-INTERVAL;VALUE=DURATION:PT1H
X-Robots-Tag:noindex
X-PUBLISHED-TTL:PT1H
BEGIN:VTIMEZONE
TZID:Europe/Helsinki
BEGIN:DAYLIGHT
TZOFFSETFROM:+0200
TZOFFSETTO:+0300
TZNAME:EEST
DTSTART:20230326T010000
END:DAYLIGHT
BEGIN:STANDARD
TZOFFSETFROM:+0300
TZOFFSETTO:+0200
TZNAME:EET
DTSTART:20231029T010000
END:STANDARD
BEGIN:DAYLIGHT
TZOFFSETFROM:+0200
TZOFFSETTO:+0300
TZNAME:EEST
DTSTART:20240331T010000
END:DAYLIGHT
BEGIN:STANDARD
TZOFFSETFROM:+0300
TZOFFSETTO:+0200
TZNAME:EET
DTSTART:20241027T010000
END:STANDARD
BEGIN:DAYLIGHT
TZOFFSETFROM:+0200
TZOFFSETTO:+0300
TZNAME:EEST
DTSTART:20250330T010000
END:DAYLIGHT
BEGIN:STANDARD
TZOFFSETFROM:+0300
TZOFFSETTO:+0200
TZNAME:EET
DTSTART:20251026T010000
END:STANDARD
END:VTIMEZONE
BEGIN:VEVENT
DTSTART;TZID=Europe/Helsinki:20240703T190000
DTEND;TZID=Europe/Helsinki:20240703T203000
DTSTAMP:20260421T162136
CREATED:20240617T072455Z
LAST-MODIFIED:20240617T072455Z
UID:35697-1720033200-1720038600@www.sinologie-goettingen.de
SUMMARY:Jürgen Trittin und Susanne Weigelin-Schwiedrzik im Gespräch: China und die Neuordnung der Welt
DESCRIPTION:Podiumsdiskussion: China und die Neuordnung der Welt\nJürgen Trittin & Susanne Weigelin-Schwiedrzik\nDatum: 3. Juli 2024\nZeit: 19:00 \nOrt: Alfred-Hessel-Saal\, Historisches Gebäude der SUB\, Papendiek 14\, 37073 Göttingen \nDer Eintritt ist frei! \nTeilnehmerInnen: \n\nJürgen Trittin: Bündnis 90/Die Grünen\, ehemaliges Mitglied des Bundestages und ehemaliger Bundesminister für Umwelt\, Naturschutz und Reaktorsicherheit\nProf. i.R. Dr. Susanne Weigelin-Schwiedrzik: Sinologin und emeritierte Professorin an der Universität Wien\n\nNeue Publikation von Prof. Dr. Susanne Weigelin-Schwiedrzik: Weigelin-Schwiedrzik\, Susanne. 2023. China und die Neuordnung der Welt. Brandstätter. \nModerator: Prof. Dr. Axel Schneider (Ostasiatisches Seminar\, Universität Göttingen) \nVeranstalter: Ostasiatisches Seminar & Centre for Modern East Asian Studies (CeMEAS) \nDie Veranstaltung wird live auf Zoom gestreamt: https://uni-goettingen.zoom-x.de/j/66787439209 \n \n\nPortraitfoto Jürgen Trittin: © Laurence Chaperon\, Bild: Generiert mit KI\, masterofmoments adobestock \nPortraitfoto Susanne Weigelin-Schwiedrzik: Christoph Glanzl \n\n\n\n\n\n 
URL:https://www.sinologie-goettingen.de/veranstaltung/juergen-trittin-und-susanne-weigelin-schwiedrzik-im-gespraech-china-und-die-neuordnung-der-welt/
ATTACH;FMTTYPE=image/jpeg:https://www.sinologie-goettingen.de/wp-content/uploads/2024/06/Picture1-1355x1020-1.jpg
END:VEVENT
END:VCALENDAR