BEGIN:VCALENDAR
VERSION:2.0
PRODID:-//Chinese Studies - ECPv6.15.20//NONSGML v1.0//EN
CALSCALE:GREGORIAN
METHOD:PUBLISH
X-WR-CALNAME:Chinese Studies
X-ORIGINAL-URL:https://www.sinologie-goettingen.de/en/
X-WR-CALDESC:Events for Chinese Studies
REFRESH-INTERVAL;VALUE=DURATION:PT1H
X-Robots-Tag:noindex
X-PUBLISHED-TTL:PT1H
BEGIN:VTIMEZONE
TZID:Europe/Helsinki
BEGIN:DAYLIGHT
TZOFFSETFROM:+0200
TZOFFSETTO:+0300
TZNAME:EEST
DTSTART:20240331T010000
END:DAYLIGHT
BEGIN:STANDARD
TZOFFSETFROM:+0300
TZOFFSETTO:+0200
TZNAME:EET
DTSTART:20241027T010000
END:STANDARD
BEGIN:DAYLIGHT
TZOFFSETFROM:+0200
TZOFFSETTO:+0300
TZNAME:EEST
DTSTART:20250330T010000
END:DAYLIGHT
BEGIN:STANDARD
TZOFFSETFROM:+0300
TZOFFSETTO:+0200
TZNAME:EET
DTSTART:20251026T010000
END:STANDARD
BEGIN:DAYLIGHT
TZOFFSETFROM:+0200
TZOFFSETTO:+0300
TZNAME:EEST
DTSTART:20260329T010000
END:DAYLIGHT
BEGIN:STANDARD
TZOFFSETFROM:+0300
TZOFFSETTO:+0200
TZNAME:EET
DTSTART:20261025T010000
END:STANDARD
END:VTIMEZONE
BEGIN:VEVENT
DTSTART;TZID=Europe/Helsinki:20250429T180000
DTEND;TZID=Europe/Helsinki:20250429T200000
DTSTAMP:20260421T133146
CREATED:20250424T111248Z
LAST-MODIFIED:20250428T162205Z
UID:36548-1745949600-1745956800@www.sinologie-goettingen.de
SUMMARY:Lecture: Writing World History in a Global Historical Context: Perspectives on Meiji Japan and Contemporary Taiwan
DESCRIPTION:Writing World History in a Global Historical Context: Perspectives on Meiji Japan and Contemporary Taiwan\nProf. Mu-chou Poo (Chinese University of Hong Kong) \nPH 20. Hörsaal der Philosophischen Fakultät\, Humboldtallee 19/21 \n29. April (Tuesday)\, 18:00-20:00 \n  \nAbstract:  \nThis talk will address two issues: the unique situation of Japanese learning of Western history and civilization in the mid-Nineteenth Century (Meiji Period)\, and the development of World History textbook writing as a response/reaction to the political process in contemporary Taiwan. For Japan\, I will concentrate on the writing of ancient Western history\, in particular the ancient Near East\, as this period touches upon the origin of human civilization\, which was of vital importance in terms of political\, cultural\, and religious implications to Japan’s effort of nation building. For Taiwan\, the more liberal new national standard textbooks of mid-1980’s sought to debunk the old frame of textbook writing\, and to introduce new concepts in history education; the decentralized textbooks of the late-1990’s were involved in the struggle of identity politics\, and took a more conservative turn in terms of writing style and interpretation. \nSpeaker: \nMu-chou Poo (PhD in Egyptology\, Johns Hopkins 1984)\, is adjunct Professor at the Chinese University of Hong Kong. He had worked as a Research Fellow at Academia Sinica\, Taipei\, from 1984-2009\, and Chair Professor of History at the Chinese University of Hong Kong\, 2009-2023\, and taught at various places\, including Columbia\, UCLA\, and Grinnell College.  Research interests include religion and society in ancient Egypt and China. Major publications include Burial and the Idea of Life and Death: Essay on Ancient Chinese Religion (Taipei\, 1993); Wine and Wine Offering in the Religion of Ancient Egypt (London: Kegan Paul\, 1995); In Search of Personal Welfare: A View of Ancient Chinese Religion (Albany: SUNY\, 1998); Enemies of Civilization: Attitudes toward Foreigners in Ancient Mesopotamia\, Egypt and China (Albany: SUNY\, 2005). (Ed.) Rethinking Ghosts in World Religions (Leiden: Brill\, 2009). Old Society\, New Belief\, Religious Transformation of China and Rome\, ca. 1st-6th Centuries. Ed. With H. A. Drake and Lisa Raphals\, (Oxford University Press\, 2017)\, Daily Life in Ancient China (Cambridge U Press\, 2018)\, Ghosts and Religious Life in Early China (Cambridge U Press\, 2022)\, and The Netherworld in Ancient Egypt and China: An Imagined Paradise (London: Bloomsbury\, 2023) \nOrganizer:  \nProf. Dominic Sachsenmaier\, University of Göttingen \n  \n\n© This image was generated with the assistance of OpenAI’s Chat GPT and is intended solely for promotional use. Unauthorized reproduction or use is prohibited.
URL:https://www.sinologie-goettingen.de/en/events/lecture-writing-world-history-in-a-global-historical-context-perspectives-on-meiji-japan-and-contemporary-taiwan/
LOCATION:PH 20. Hörsaal der Philosophischen Fakultät\, Humboldtallee 19/21
ATTACH;FMTTYPE=image/jpeg:https://www.sinologie-goettingen.de/wp-content/uploads/2025/04/image4.jpg
END:VEVENT
END:VCALENDAR