BEGIN:VCALENDAR
VERSION:2.0
PRODID:-//Chinese Studies - ECPv6.15.20//NONSGML v1.0//EN
CALSCALE:GREGORIAN
METHOD:PUBLISH
X-ORIGINAL-URL:https://www.sinologie-goettingen.de/en/
X-WR-CALDESC:Events for Chinese Studies
REFRESH-INTERVAL;VALUE=DURATION:PT1H
X-Robots-Tag:noindex
X-PUBLISHED-TTL:PT1H
BEGIN:VTIMEZONE
TZID:Europe/Helsinki
BEGIN:DAYLIGHT
TZOFFSETFROM:+0200
TZOFFSETTO:+0300
TZNAME:EEST
DTSTART:20200329T010000
END:DAYLIGHT
BEGIN:STANDARD
TZOFFSETFROM:+0300
TZOFFSETTO:+0200
TZNAME:EET
DTSTART:20201025T010000
END:STANDARD
BEGIN:DAYLIGHT
TZOFFSETFROM:+0200
TZOFFSETTO:+0300
TZNAME:EEST
DTSTART:20210328T010000
END:DAYLIGHT
BEGIN:STANDARD
TZOFFSETFROM:+0300
TZOFFSETTO:+0200
TZNAME:EET
DTSTART:20211031T010000
END:STANDARD
BEGIN:DAYLIGHT
TZOFFSETFROM:+0200
TZOFFSETTO:+0300
TZNAME:EEST
DTSTART:20220327T010000
END:DAYLIGHT
BEGIN:STANDARD
TZOFFSETFROM:+0300
TZOFFSETTO:+0200
TZNAME:EET
DTSTART:20221030T010000
END:STANDARD
END:VTIMEZONE
BEGIN:VEVENT
DTSTART;TZID=Europe/Helsinki:20210211T130000
DTEND;TZID=Europe/Helsinki:20210211T140000
DTSTAMP:20260425T054012
CREATED:20201218T071614Z
LAST-MODIFIED:20201218T071614Z
UID:33039-1613048400-1613052000@www.sinologie-goettingen.de
SUMMARY:Online-Lecture: Soo Yeon Kim (National University of Singapore): Gaining Ground\, Gaining Influence? Vote Shares and Power in the Asian Infrastructure Invest-ment Bank (AIIB)
DESCRIPTION:Online-Lecture: \nZoom-Meeting-Link: https://uni-goettingen.zoom.us/j/92410917518
URL:https://www.sinologie-goettingen.de/en/events/online-lecture-soo-yeon-kim-national-university-of-singapore-gaining-ground-gaining-influence-vote-shares-and-power-in-the-asian-infrastructure-invest-ment-bank-aiib/
LOCATION:Online (Zoom)
END:VEVENT
END:VCALENDAR