BEGIN:VCALENDAR
VERSION:2.0
PRODID:-//Chinese Studies - ECPv6.15.20//NONSGML v1.0//EN
CALSCALE:GREGORIAN
METHOD:PUBLISH
X-WR-CALNAME:Chinese Studies
X-ORIGINAL-URL:https://www.sinologie-goettingen.de/en/
X-WR-CALDESC:Events for Chinese Studies
REFRESH-INTERVAL;VALUE=DURATION:PT1H
X-Robots-Tag:noindex
X-PUBLISHED-TTL:PT1H
BEGIN:VTIMEZONE
TZID:Europe/Helsinki
BEGIN:DAYLIGHT
TZOFFSETFROM:+0200
TZOFFSETTO:+0300
TZNAME:EEST
DTSTART:20210328T010000
END:DAYLIGHT
BEGIN:STANDARD
TZOFFSETFROM:+0300
TZOFFSETTO:+0200
TZNAME:EET
DTSTART:20211031T010000
END:STANDARD
BEGIN:DAYLIGHT
TZOFFSETFROM:+0200
TZOFFSETTO:+0300
TZNAME:EEST
DTSTART:20220327T010000
END:DAYLIGHT
BEGIN:STANDARD
TZOFFSETFROM:+0300
TZOFFSETTO:+0200
TZNAME:EET
DTSTART:20221030T010000
END:STANDARD
BEGIN:DAYLIGHT
TZOFFSETFROM:+0200
TZOFFSETTO:+0300
TZNAME:EEST
DTSTART:20230326T010000
END:DAYLIGHT
BEGIN:STANDARD
TZOFFSETFROM:+0300
TZOFFSETTO:+0200
TZNAME:EET
DTSTART:20231029T010000
END:STANDARD
END:VTIMEZONE
BEGIN:VEVENT
DTSTART;TZID=Europe/Helsinki:20220624T100000
DTEND;TZID=Europe/Helsinki:20220624T120000
DTSTAMP:20260421T114551
CREATED:20220615T072327Z
LAST-MODIFIED:20220621T075103Z
UID:34449-1656064800-1656072000@www.sinologie-goettingen.de
SUMMARY:Lecture: What is to be Done? Literature and History in China’s Revolutionary Twentieth-Century\, Rebecca Karl Professor of History\, New York University
DESCRIPTION:June 24\, 2022\, 10:00 AM\nOn Campus: KWZ 0.607 (University of Göttingen\, Heinrich-Düker-Weg 14\, 37073 Göttingen)\nOn Zoom: For registration\, please use this zoom link. \nThis talk will address the problem of literary and historical narrative in China’s twentieth century. Revolutionary time is a particular kind of time\, requiring different kinds of narrative. In an analytical pass through a century of narrativizations/re-narrativizations\, the talk will examine how successive revolutionaries and writers attempted to answer the constantly posed and re-posed radical question of “what is to be done” (shto delats? 怎么办?). \nThis lecture is part of the lecture series New Perspectives on Modernity in China.\n.\nOrganizers: \nProf. Dr. Axel Schneider\, University of Göttingen\nProf. Dr. Thomas Fröhlich\, University of Hamburg \nCeMEAS – Centre for Modern East Asian Studies & Department of East Asian Studies\, University of Göttingen \nAsia-Africa- Institute\, Department for Chinese Language and Culture\, University of Hamburg \nDepartment of East Asian Studies\, University of Göttingen \nSponsor: \nAcademic Confucius Institute\, University of Göttingen
URL:https://www.sinologie-goettingen.de/en/events/lecture-what-is-to-be-done-literature-and-history-in-chinas-revolutionary-twentieth-century-rebecca-karl-professor-of-history-new-york-university/
LOCATION:KWZ 0.607 or Zoom
END:VEVENT
END:VCALENDAR