BEGIN:VCALENDAR
VERSION:2.0
PRODID:-//Chinese Studies - ECPv6.15.20//NONSGML v1.0//EN
CALSCALE:GREGORIAN
METHOD:PUBLISH
X-ORIGINAL-URL:https://www.sinologie-goettingen.de/en/
X-WR-CALDESC:Events for Chinese Studies
REFRESH-INTERVAL;VALUE=DURATION:PT1H
X-Robots-Tag:noindex
X-PUBLISHED-TTL:PT1H
BEGIN:VTIMEZONE
TZID:Europe/Helsinki
BEGIN:DAYLIGHT
TZOFFSETFROM:+0200
TZOFFSETTO:+0300
TZNAME:EEST
DTSTART:20210328T010000
END:DAYLIGHT
BEGIN:STANDARD
TZOFFSETFROM:+0300
TZOFFSETTO:+0200
TZNAME:EET
DTSTART:20211031T010000
END:STANDARD
BEGIN:DAYLIGHT
TZOFFSETFROM:+0200
TZOFFSETTO:+0300
TZNAME:EEST
DTSTART:20220327T010000
END:DAYLIGHT
BEGIN:STANDARD
TZOFFSETFROM:+0300
TZOFFSETTO:+0200
TZNAME:EET
DTSTART:20221030T010000
END:STANDARD
BEGIN:DAYLIGHT
TZOFFSETFROM:+0200
TZOFFSETTO:+0300
TZNAME:EEST
DTSTART:20230326T010000
END:DAYLIGHT
BEGIN:STANDARD
TZOFFSETFROM:+0300
TZOFFSETTO:+0200
TZNAME:EET
DTSTART:20231029T010000
END:STANDARD
END:VTIMEZONE
BEGIN:VEVENT
DTSTART;TZID=Europe/Helsinki:20220610T100000
DTEND;TZID=Europe/Helsinki:20220610T120000
DTSTAMP:20260423T114356
CREATED:20220603T064216Z
LAST-MODIFIED:20220603T064238Z
UID:34415-1654855200-1654862400@www.sinologie-goettingen.de
SUMMARY:Lecture.: The Creativeness of Modern Chinese Conservative Thinkers 王汎森: 近代保守思想家的創造性 Wang Fansen Academia Sinica
DESCRIPTION:June 10\, 2022\, 10:00 AM Amsterdam\, Berlin\, Rome\, Stockholm\, Vienna\nOn Zoom: For registration\, please use this zoom link.\nThe lecture will be held in Chinese. \n近代中國保守思想家中至少可以區分成兩類，第一類是本能地反對任何改變現狀的思想，第二類是回到一個重要的思想基盤（如宋明理學、大乘佛學）上戰鬥。在這次演講中，我想討論第二類思想家，以宋育仁（1859-1931）、熊十力（1885-1968）、唐文治（1865-1954）、劉咸炘（1896-1932）、錢穆（1895-1990）等人為例，討論一個思想史上的問題：當晚清以來的新派一直在變的時候，反對或批評他們的人，其實也一直在變換他們的言論，同時也變換他們對傳統的解釋，以便對應挑戰。\n此外，我在比較仔細地審視他們的思路之後，認為他們不只是「回到本來」的樣子，而是有一個微妙的新創過程。譬如他們有時候會用「提高一格法」，把儒家思想，尤其是宋明理學，作一種新的調整、詮釋。借用卡夫卡的話：「當你凝視深淵時，深淵也在凝視你」。 \nThis lecture is part of the lecture series New Perspectives on Modernity in China. \nOrganizers:\nProf. Dr. Axel Schneider\, University of Göttingen\nProf. Dr. Thomas Fröhlich\, University of Hamburg \nCeMEAS – Centre for Modern East Asian Studies & Department of East Asian Studies\, University of Göttingen \nAsia-Africa- Institute\, Department for Chinese Language and Culture\, University of Hamburg \nDepartment of East Asian Studies\, University of Göttingen \nSponsor: \nAcademic Confucius Institute\, University of Göttingen
URL:https://www.sinologie-goettingen.de/en/events/lecture-the-creativeness-of-modern-chinese-conservative-thinkers-%e7%8e%8b%e6%b1%8e%e6%a3%ae-%e8%bf%91%e4%bb%a3%e4%bf%9d%e5%ae%88%e6%80%9d%e6%83%b3%e5%ae%b6%e7%9a%84%e5%89%b5%e9%80%a0%e6%80%a7-wang/
LOCATION:Online
END:VEVENT
END:VCALENDAR