BEGIN:VCALENDAR
VERSION:2.0
PRODID:-//Chinese Studies - ECPv6.15.20//NONSGML v1.0//EN
CALSCALE:GREGORIAN
METHOD:PUBLISH
X-ORIGINAL-URL:https://www.sinologie-goettingen.de/en/
X-WR-CALDESC:Events for Chinese Studies
REFRESH-INTERVAL;VALUE=DURATION:PT1H
X-Robots-Tag:noindex
X-PUBLISHED-TTL:PT1H
BEGIN:VTIMEZONE
TZID:Europe/Helsinki
BEGIN:DAYLIGHT
TZOFFSETFROM:+0200
TZOFFSETTO:+0300
TZNAME:EEST
DTSTART:20210328T010000
END:DAYLIGHT
BEGIN:STANDARD
TZOFFSETFROM:+0300
TZOFFSETTO:+0200
TZNAME:EET
DTSTART:20211031T010000
END:STANDARD
BEGIN:DAYLIGHT
TZOFFSETFROM:+0200
TZOFFSETTO:+0300
TZNAME:EEST
DTSTART:20220327T010000
END:DAYLIGHT
BEGIN:STANDARD
TZOFFSETFROM:+0300
TZOFFSETTO:+0200
TZNAME:EET
DTSTART:20221030T010000
END:STANDARD
BEGIN:DAYLIGHT
TZOFFSETFROM:+0200
TZOFFSETTO:+0300
TZNAME:EEST
DTSTART:20230326T010000
END:DAYLIGHT
BEGIN:STANDARD
TZOFFSETFROM:+0300
TZOFFSETTO:+0200
TZNAME:EET
DTSTART:20231029T010000
END:STANDARD
END:VTIMEZONE
BEGIN:VEVENT
DTSTART;VALUE=DATE:20220602
DTEND;VALUE=DATE:20220605
DTSTAMP:20260423T114400
CREATED:20220518T080208Z
LAST-MODIFIED:20220518T084130Z
UID:34371-1654128000-1654387199@www.sinologie-goettingen.de
SUMMARY:Global Conflicts\, Global Collaboration: China in a Changing World Order
DESCRIPTION:This conference is organized by a Joint Center of Advanced Studies entitled “Worldmaking from Global Perspective: A Dialogue with China.” Funded by the Federal Ministry of Educa-tion and Research (BMBF) since November 2020\, the Joint Center is characterized by its highly integrated network system. It brings together scholarly teams from Freie Universität Berlin\, Georg-August-Universität Göttingen\, Ruprecht-Karls-Universität Heidelberg\, Ludwigs-Maximilians-Universität München and Julius-Maximilians-Universität Würzburg. The Göttingen part of the project is directed by Prof. Dominic Sachsenmaier and explores the transformation of conceptions of world order between the late nineteenth century and the present.\nThe Joint Center’s annual conference takes place in Göttingen from June 2nd to June 4th\, 2022. Two panels and a keynote that deal with China’s place in shifting global orders are available to a wider public\, via zoom. \nOverview Public-Panels June 3rd\, 2022. \nRegister to attend at:\nhttps://uni-goettingen.zoom.us/webinar/register/WN___I-HO8QSBWQd_jxvEkWHQ
URL:https://www.sinologie-goettingen.de/en/events/global-conflicts-global-collaboration-china-in-a-changing-world-order/
LOCATION:Universität Göttingen und Online
END:VEVENT
END:VCALENDAR