BEGIN:VCALENDAR
VERSION:2.0
PRODID:-//Chinese Studies - ECPv6.15.20//NONSGML v1.0//EN
CALSCALE:GREGORIAN
METHOD:PUBLISH
X-ORIGINAL-URL:https://www.sinologie-goettingen.de/en/
X-WR-CALDESC:Events for Chinese Studies
REFRESH-INTERVAL;VALUE=DURATION:PT1H
X-Robots-Tag:noindex
X-PUBLISHED-TTL:PT1H
BEGIN:VTIMEZONE
TZID:Europe/Helsinki
BEGIN:DAYLIGHT
TZOFFSETFROM:+0200
TZOFFSETTO:+0300
TZNAME:EEST
DTSTART:20210328T010000
END:DAYLIGHT
BEGIN:STANDARD
TZOFFSETFROM:+0300
TZOFFSETTO:+0200
TZNAME:EET
DTSTART:20211031T010000
END:STANDARD
BEGIN:DAYLIGHT
TZOFFSETFROM:+0200
TZOFFSETTO:+0300
TZNAME:EEST
DTSTART:20220327T010000
END:DAYLIGHT
BEGIN:STANDARD
TZOFFSETFROM:+0300
TZOFFSETTO:+0200
TZNAME:EET
DTSTART:20221030T010000
END:STANDARD
BEGIN:DAYLIGHT
TZOFFSETFROM:+0200
TZOFFSETTO:+0300
TZNAME:EEST
DTSTART:20230326T010000
END:DAYLIGHT
BEGIN:STANDARD
TZOFFSETFROM:+0300
TZOFFSETTO:+0200
TZNAME:EET
DTSTART:20231029T010000
END:STANDARD
END:VTIMEZONE
BEGIN:VEVENT
DTSTART;TZID=Europe/Helsinki:20220520T120000
DTEND;TZID=Europe/Helsinki:20220520T160000
DTSTAMP:20260423T114356
CREATED:20220422T082042Z
LAST-MODIFIED:20220422T082109Z
UID:34334-1653048000-1653062400@www.sinologie-goettingen.de
SUMMARY:Lecture Viren Murthy\, Associate Professor of History (University of Wisconsin-Madison): Conservative Radicalism: Watsuji Tetsuro’s Critique of Civil Society and Its Implications for Chinese Intellectual History
DESCRIPTION:May 20\, 2022\, 12:00 PM Amsterdam\, Berlin\, Rome\, Stockholm\, Vienna\nOn Campus: KWZ 0.610 (University of Göttingen\, Heinrich-Düker-Weg 14\, 37073 Göttingen)\nOn Zoom: For registration\, please use this zoom link. \nSince the late nineteenth and early twentieth centuries\, as the Meiji state quickly modernized\, Japanese intellectuals confronted the atomization and alienation associated with new forms of labor in civil society. Unlike in the family\, where affective bonds govern human action\, in civil society\, people ventured into the world as purposive individuals entering into wage-contracts\, which forced them into a means-end relationship. While scholars have dealt with attempts to overcome modernity twentieth century Japan\, few have focused on the how the ideal of the family served as a trope to reconcile the antagonism between the individual and the community. The Japanese philosopher\, Watsuji Tetsuro (1889-1960) critically drew on Hegel’s conception of the family to attack civil society. While his critique is clearly conservative\, I argue that his position overlaps with leftist treatments of modern alienation and reveals the contradictions between spheres of the family and civil society. Watsuji develops his position in an essay written in the 1930s on the city\, where he translates the civil society (bürgerliche Gesellschaft) as “interest society (rieki shakai)”\, a sphere where people pursue personal gain. In response to this\, he advocates rekindling to older forms of society\, where work and family are not so clearly severed. Towards the end of my presentation\, I examine the implications of Watsuji’s critique of urban life for the study of Chinese intellectual history. Specifically\, in both contexts\, my study suggests that we at times blur the lines between radical and conservative because they often have a similar object of critique\, namely capitalism\, which they each grasp with varying degrees of success. \nViren Murthy teaches transnational Asian History and researches Chinese and Japanese intellectual history in the Department of History at the University of Wisconsin-Madison. \nThis lecture is part of the lecture series New Perspectives on Modernity in China.
URL:https://www.sinologie-goettingen.de/en/events/lecture-viren-murthy-associate-professor-of-history-university-of-wisconsin-madison-conservative-radicalism-watsuji-tetsuros-critique-of-civil-society-and-its-implications-for-chinese-in/
LOCATION:KWZ 0.610 sowie Online
END:VEVENT
END:VCALENDAR