BEGIN:VCALENDAR
VERSION:2.0
PRODID:-//Chinese Studies - ECPv6.15.20//NONSGML v1.0//EN
CALSCALE:GREGORIAN
METHOD:PUBLISH
X-WR-CALNAME:Chinese Studies
X-ORIGINAL-URL:https://www.sinologie-goettingen.de/en/
X-WR-CALDESC:Events for Chinese Studies
REFRESH-INTERVAL;VALUE=DURATION:PT1H
X-Robots-Tag:noindex
X-PUBLISHED-TTL:PT1H
BEGIN:VTIMEZONE
TZID:Europe/Helsinki
BEGIN:DAYLIGHT
TZOFFSETFROM:+0200
TZOFFSETTO:+0300
TZNAME:EEST
DTSTART:20210328T010000
END:DAYLIGHT
BEGIN:STANDARD
TZOFFSETFROM:+0300
TZOFFSETTO:+0200
TZNAME:EET
DTSTART:20211031T010000
END:STANDARD
BEGIN:DAYLIGHT
TZOFFSETFROM:+0200
TZOFFSETTO:+0300
TZNAME:EEST
DTSTART:20220327T010000
END:DAYLIGHT
BEGIN:STANDARD
TZOFFSETFROM:+0300
TZOFFSETTO:+0200
TZNAME:EET
DTSTART:20221030T010000
END:STANDARD
BEGIN:DAYLIGHT
TZOFFSETFROM:+0200
TZOFFSETTO:+0300
TZNAME:EEST
DTSTART:20230326T010000
END:DAYLIGHT
BEGIN:STANDARD
TZOFFSETFROM:+0300
TZOFFSETTO:+0200
TZNAME:EET
DTSTART:20231029T010000
END:STANDARD
END:VTIMEZONE
BEGIN:VEVENT
DTSTART;TZID=Europe/Helsinki:20220428T110000
DTEND;TZID=Europe/Helsinki:20220428T120000
DTSTAMP:20260423T142639
CREATED:20220422T073511Z
LAST-MODIFIED:20220422T073618Z
UID:34316-1651143600-1651147200@www.sinologie-goettingen.de
SUMMARY:Global China Conversations #9:  Diskussionsreihe mitorganisiert durch das CeMEAS - Centre for Modern East Asian Studies
DESCRIPTION:Sprecherinnen\nProf. Dr. Doris Fischer\, Universität Würzburg\nVeronique Dunai\, IHK Frankfurt am Main \nDystopie eines autoritären Überwachungsstaats oder moderne Vision datenbasierter Regierungsführung? Das chinesische Sozialkreditsystem hat seit seiner offiziellen Ankündigung im Jahr 2014 für zahlreiche kontroverse Debatten gesorgt. Was genau jedoch ist das neue Bonitätssystem und wie wirkt es sich auf die chinesische Wirtschaft und europäische Unternehmen in China aus? Mit dem neuen Fünfjahresplan (2021–2025) soll auch das Sozialkreditsystem weiterentwickelt und vor allem zentralisiert werden. In zwei nationalen Datenbanken werden Informationen über Unternehmen geführt und Schwarz- sowie Rotlisten veröffentlicht. Positive Entwicklungen sowie Verstöße einzelner Unternehmen gegen Bestimmungen und Gesetze werden in den Datenbanken aufgeführt. Das System soll so zu mehr Compliance führen\, Vertrauens- und Kreditwürdigkeit von Unternehmen einsehbar machen\, aber auch Sanktionen bei gröberen Vergehen ermöglichen. Welche administrativen und bürokratischen Herausforderungen kommen auf europäische Unternehmen zu? Welche Risiken bestehen für Unternehmen auf “schwarze Listen” zu kommen? Wie wirkt sich die starke Fragmentierung des Systems auf Unternehmen aus? Kann das Sozialkreditsystem dazu beitragen\, Geschäftsbeziehungen zu verbessern? Wie entwickelt sich das Sozialkreditsystem weiter und welche Auswirkungen hat es auf das internationale Handelssystem? Diese und weitere Fragen diskutieren wir mit Ihnen und unseren Expertinnen in der neunten Global China Conversation. \nHier finden Sie mehr Information.
URL:https://www.sinologie-goettingen.de/en/events/global-china-conversations-9-diskussionsreihe-mitorganisiert-durch-das-cemeas-centre-for-modern-east-asian-studies/
LOCATION:Online
END:VEVENT
END:VCALENDAR