BEGIN:VCALENDAR
VERSION:2.0
PRODID:-//Chinese Studies - ECPv6.15.20//NONSGML v1.0//EN
CALSCALE:GREGORIAN
METHOD:PUBLISH
X-ORIGINAL-URL:https://www.sinologie-goettingen.de/en/
X-WR-CALDESC:Events for Chinese Studies
REFRESH-INTERVAL;VALUE=DURATION:PT1H
X-Robots-Tag:noindex
X-PUBLISHED-TTL:PT1H
BEGIN:VTIMEZONE
TZID:Europe/Helsinki
BEGIN:DAYLIGHT
TZOFFSETFROM:+0200
TZOFFSETTO:+0300
TZNAME:EEST
DTSTART:20210328T010000
END:DAYLIGHT
BEGIN:STANDARD
TZOFFSETFROM:+0300
TZOFFSETTO:+0200
TZNAME:EET
DTSTART:20211031T010000
END:STANDARD
BEGIN:DAYLIGHT
TZOFFSETFROM:+0200
TZOFFSETTO:+0300
TZNAME:EEST
DTSTART:20220327T010000
END:DAYLIGHT
BEGIN:STANDARD
TZOFFSETFROM:+0300
TZOFFSETTO:+0200
TZNAME:EET
DTSTART:20221030T010000
END:STANDARD
BEGIN:DAYLIGHT
TZOFFSETFROM:+0200
TZOFFSETTO:+0300
TZNAME:EEST
DTSTART:20230326T010000
END:DAYLIGHT
BEGIN:STANDARD
TZOFFSETFROM:+0300
TZOFFSETTO:+0200
TZNAME:EET
DTSTART:20231029T010000
END:STANDARD
END:VTIMEZONE
BEGIN:VEVENT
DTSTART;TZID=Europe/Helsinki:20220222T133000
DTEND;TZID=Europe/Helsinki:20220222T150000
DTSTAMP:20260423T203258
CREATED:20220215T113516Z
LAST-MODIFIED:20220215T113702Z
UID:34235-1645536600-1645542000@www.sinologie-goettingen.de
SUMMARY:线上讲座 – Online-Lecture: 文化点的选取与教学 – Selection and Teaching of Cultural Aspects
DESCRIPTION:讲座要点 \n语言的教与学离不开文化的教与学，这已成为共识。但是在没有一部“文化大纲”的情况下教师如何开展文化教学，却始终是众说纷纭。其实，这一问题的解决需要更多依靠一线教师的探索和实践，相互交流尤为重要。本次讲座主要围绕两个问题与各位同行进行讨论：\n\n如何确定中文教学中的“文化点”？ \n\n语言教学中的文化因素\n代表性的文化符号\n\n如何进行“文化点”的教学？ \n\n“文化三角形”的拓展运用\n\nKey points of the lecture \nThere is general consensus that the teaching and learning of language cannot be separated from the teaching and learning of culture. However\, there is much dispute on how teachers should carry out cultural teaching\, if there is no “cultural curriculum”. The answer to this question should be based on the practical experiences of practicing teachers\, for which communicative exchange is essential. This lecture focuses on two issues for discussion： \nHow to determine “cultural aspects” in the teaching of Chinese? \n\nCultural factors in language teaching;\nRepresentative cultural symbols\n\nHow to teach „cultural aspects“? \n\nExpansion and application of the „Cultural Triangle“\n\n主讲人简介 About the Lecturer \n王学松，文学博士。北京师范大学汉语文化学院教授、校学术委员会委员、教学指导委员会委员。曾先后在美国明德学院和达特茅斯大学、韩国的成均馆大学、日本金泽大学讲授汉语与中国文化课程。目前的研究工作主要集中在汉语与文化教学、中国古代文学领域。主持编著《面向第二语言教学的中华文化与跨文化传播研究》 目前主持在研项目“基于国际中文教育中文水平等级标准的文化教学分级指南”（国家语委2020）。 \nWANG Xuesong\, Ph.D.\, is a professor of the School of Chinese Culture of Beijing Normal University as well as a member of the university’s academic committee and teaching steering committee. He has taught Chinese language and Chinese culture at Middlebury College and Dartmouth University in the United States\, Sungkyunkwan University in South Korea\, and Kanazawa University in Japan. His current research primarily focuses on the teaching of Chinese language and culture as well as on ancient Chinese literature. Prof. Wang was the chief editor of „Research on Chinese Culture and Intercultural Communication for Second Language Teaching“ \,and currently presides over the research project „Grading Guidelines for Cultural Teaching Based on the Chinese Proficiency Standards in International Chinese Education“ (National Language Commission 2020). \nZOOM meeting ID/会议号：812 6408 5366  https://us06web.zoom.us/j/81264085366 \n请在注册zoom软件后，于13:15扫描二维码或输入会议ID加入会议 \n Access to the event starts at 13:45. After downloading the zoom opening launcher\, please enter meeting ID to join the lecture. \n隐私保护请参阅  Information on privacy can be found in：https://zoom.us/privacy-and-legal \n讲座将用中文进行  This lecture will be held in Chinese.
URL:https://www.sinologie-goettingen.de/en/events/%e7%ba%bf%e4%b8%8a%e8%ae%b2%e5%ba%a7-online-lecture-%e6%96%87%e5%8c%96%e7%82%b9%e7%9a%84%e9%80%89%e5%8f%96%e4%b8%8e%e6%95%99%e5%ad%a6-selection-and-teaching-of-cultural-aspects/
LOCATION:Online
END:VEVENT
END:VCALENDAR