BEGIN:VCALENDAR
VERSION:2.0
PRODID:-//Chinese Studies - ECPv6.15.20//NONSGML v1.0//EN
CALSCALE:GREGORIAN
METHOD:PUBLISH
X-ORIGINAL-URL:https://www.sinologie-goettingen.de/en/
X-WR-CALDESC:Events for Chinese Studies
REFRESH-INTERVAL;VALUE=DURATION:PT1H
X-Robots-Tag:noindex
X-PUBLISHED-TTL:PT1H
BEGIN:VTIMEZONE
TZID:Europe/Helsinki
BEGIN:DAYLIGHT
TZOFFSETFROM:+0200
TZOFFSETTO:+0300
TZNAME:EEST
DTSTART:20200329T010000
END:DAYLIGHT
BEGIN:STANDARD
TZOFFSETFROM:+0300
TZOFFSETTO:+0200
TZNAME:EET
DTSTART:20201025T010000
END:STANDARD
BEGIN:DAYLIGHT
TZOFFSETFROM:+0200
TZOFFSETTO:+0300
TZNAME:EEST
DTSTART:20210328T010000
END:DAYLIGHT
BEGIN:STANDARD
TZOFFSETFROM:+0300
TZOFFSETTO:+0200
TZNAME:EET
DTSTART:20211031T010000
END:STANDARD
BEGIN:DAYLIGHT
TZOFFSETFROM:+0200
TZOFFSETTO:+0300
TZNAME:EEST
DTSTART:20220327T010000
END:DAYLIGHT
BEGIN:STANDARD
TZOFFSETFROM:+0300
TZOFFSETTO:+0200
TZNAME:EET
DTSTART:20221030T010000
END:STANDARD
END:VTIMEZONE
BEGIN:VEVENT
DTSTART;TZID=Europe/Helsinki:20211221T181500
DTEND;TZID=Europe/Helsinki:20211221T201500
DTSTAMP:20260424T072839
CREATED:20211216T123120Z
LAST-MODIFIED:20211216T123219Z
UID:34180-1640110500-1640117700@www.sinologie-goettingen.de
SUMMARY:Online-Lecture: Dr. Benjamin Creutzfeldt (Göttingen University): "China in Latin America – Some Observations“
DESCRIPTION:Dr. Benjamin Creutzfeldt is a Lecturer at the Department of East Asian Studies. -He was a Postdoctoral Fellow at SAIS Foreign Policy Institute\, Johns Hopkins University\, and a Resident Fellow at the Wilson Center in Washington\, DC. He obtained his Ph.D. in Political Studies from Externado University in Colombia\, and is also a historian of Chinese art with ample experience as an auctioneer and start-up entrepreneur in China\, Colombia\, Panama and the United States. For the past ten years\, he has researched and published widely on China’s relations with Latin America. He is interested in both the practical and the theoretical aspects of China’s foreign policy: diplomacy\, and Chinese IR Theory. \nhttps://uni-goettingen.zoom.us/j/96477847223?pwd=OHl6QnpFajRLRmhVaC9pQjdGVmZGUT09 \nMeeting-ID: 964 7784 7223\nKenncode: 997514
URL:https://www.sinologie-goettingen.de/en/events/online-lecture-dr-benjamin-creutzfeldt-goettingen-university-china-in-latin-america-some-observations/
LOCATION:Online
END:VEVENT
END:VCALENDAR