BEGIN:VCALENDAR
VERSION:2.0
PRODID:-//Chinese Studies - ECPv6.15.20//NONSGML v1.0//EN
CALSCALE:GREGORIAN
METHOD:PUBLISH
X-ORIGINAL-URL:https://www.sinologie-goettingen.de/en/
X-WR-CALDESC:Events for Chinese Studies
REFRESH-INTERVAL;VALUE=DURATION:PT1H
X-Robots-Tag:noindex
X-PUBLISHED-TTL:PT1H
BEGIN:VTIMEZONE
TZID:Europe/Helsinki
BEGIN:DAYLIGHT
TZOFFSETFROM:+0200
TZOFFSETTO:+0300
TZNAME:EEST
DTSTART:20200329T010000
END:DAYLIGHT
BEGIN:STANDARD
TZOFFSETFROM:+0300
TZOFFSETTO:+0200
TZNAME:EET
DTSTART:20201025T010000
END:STANDARD
BEGIN:DAYLIGHT
TZOFFSETFROM:+0200
TZOFFSETTO:+0300
TZNAME:EEST
DTSTART:20210328T010000
END:DAYLIGHT
BEGIN:STANDARD
TZOFFSETFROM:+0300
TZOFFSETTO:+0200
TZNAME:EET
DTSTART:20211031T010000
END:STANDARD
BEGIN:DAYLIGHT
TZOFFSETFROM:+0200
TZOFFSETTO:+0300
TZNAME:EEST
DTSTART:20220327T010000
END:DAYLIGHT
BEGIN:STANDARD
TZOFFSETFROM:+0300
TZOFFSETTO:+0200
TZNAME:EET
DTSTART:20221030T010000
END:STANDARD
END:VTIMEZONE
BEGIN:VEVENT
DTSTART;TZID=Europe/Helsinki:20211217T160000
DTEND;TZID=Europe/Helsinki:20211217T180000
DTSTAMP:20260424T072841
CREATED:20211105T084415Z
LAST-MODIFIED:20211105T085340Z
UID:34079-1639756800-1639764000@www.sinologie-goettingen.de
SUMMARY:Lecture: Peter Zarrow (Department of History\, University of Connecticut\, Hartford\, USA): The Utopian Impulse and Chinese Political Modernity
DESCRIPTION:Please register in advance: https://uni-goettingen.zoom.us/meeting/register/tJAtceqorT0tH9SiRAQ_2nag0kPuXKM57ZiC \nThis paper discusses the role played by utopian “moves” that were made by political thinkers in the late Qing and Republican periods to build a new more or less democratic and socialist nation. An analysis of four case studies—Kang Youwei\, Cai Yuanpei\, Chen Duxiu\, and Hu Shi—reveals distinct but overlapping visions of political modernity. On one level\, these were blurry visions of political modernity directly and indirectly derived from Western discourses\, particularly those of the Enlightenment. But on another level\, Chinese thinkers can be read as making dialogic contributions to evolving notions of political modernity in cosmopolitan spaces across the twentieth century and beyond. \nThis lecture is part of the lecture series New Perspectives on Modernity in China.
URL:https://www.sinologie-goettingen.de/en/events/lecture-peter-zarrow-department-of-history-university-of-connecticut-hartford-usa-the-utopian-impulse-and-chinese-political-modernity/
LOCATION:Online
END:VEVENT
END:VCALENDAR