BEGIN:VCALENDAR
VERSION:2.0
PRODID:-//Chinese Studies - ECPv6.15.20//NONSGML v1.0//EN
CALSCALE:GREGORIAN
METHOD:PUBLISH
X-ORIGINAL-URL:https://www.sinologie-goettingen.de/en/
X-WR-CALDESC:Events for Chinese Studies
REFRESH-INTERVAL;VALUE=DURATION:PT1H
X-Robots-Tag:noindex
X-PUBLISHED-TTL:PT1H
BEGIN:VTIMEZONE
TZID:Europe/Helsinki
BEGIN:DAYLIGHT
TZOFFSETFROM:+0200
TZOFFSETTO:+0300
TZNAME:EEST
DTSTART:20200329T010000
END:DAYLIGHT
BEGIN:STANDARD
TZOFFSETFROM:+0300
TZOFFSETTO:+0200
TZNAME:EET
DTSTART:20201025T010000
END:STANDARD
BEGIN:DAYLIGHT
TZOFFSETFROM:+0200
TZOFFSETTO:+0300
TZNAME:EEST
DTSTART:20210328T010000
END:DAYLIGHT
BEGIN:STANDARD
TZOFFSETFROM:+0300
TZOFFSETTO:+0200
TZNAME:EET
DTSTART:20211031T010000
END:STANDARD
BEGIN:DAYLIGHT
TZOFFSETFROM:+0200
TZOFFSETTO:+0300
TZNAME:EEST
DTSTART:20220327T010000
END:DAYLIGHT
BEGIN:STANDARD
TZOFFSETFROM:+0300
TZOFFSETTO:+0200
TZNAME:EET
DTSTART:20221030T010000
END:STANDARD
END:VTIMEZONE
BEGIN:VEVENT
DTSTART;TZID=Europe/Helsinki:20211214T081500
DTEND;TZID=Europe/Helsinki:20211214T143000
DTSTAMP:20260424T072830
CREATED:20211208T084913Z
LAST-MODIFIED:20211214T074934Z
UID:34156-1639469700-1639492200@www.sinologie-goettingen.de
SUMMARY:Workshop: "Africa in Shifting Global Contexts:  The Roles of China and the EU"
DESCRIPTION:Tuesday\, December 14th\, 2021	 \n08:15-08:30 GMT: Welcome\nDr. Mengshu Zhan (Göttingen University\, Germany)\nProf. Dr. Dominic Sachsenmaier (Göttingen University\, Germany) \n08:30-10:00 GMT: Chinese and European Soft Power in Africa: Confrontational Pathways?\nJoin Zoom Meeting: https://uni-goettingen.zoom.us/j/85234128312\nMeeting ID: 852 3412 8312 \nChair: Prof. Dominic Sachsenmaier (Göttingen University\, Germany)  \n1.	Prof. David Mills (Oxford University)\, Dr Natasha Robinson (Oxford University) & Dr Hodan Abdi (Zheijang Normal University and City University of Mogadishu)\n“Feeling for the Stones:” Learning to Navigate Knowledge Diplomacy through the China-Africa Think Tanks Forum \n2.	Professor He Wenping (Chinese Academy of Social Sciences\, Beijing\, China)\nChina’s Soft Power in Africa: Strengths and Weaknesses \n3.	Dr. Bhaso Ndzendze (University of Johannesburg\, South Africa)\nChina and the EU in Africa: A Decade of Soft Power Shifts in Review \n13:00-14:30 GMT: Africa in Shifting Global Contexts: Perspectives from Africa \nZoom Meeting: https://uni-goettingen.zoom.us/j/83632982167\nMeeting ID: 836 3298 2167 \nChair: Dr. Mengshu Zhan (Göttingen University\, Germany) \n1.	Dr. Martyn Davies (South African Deloitte\, South Africa)\nThe New Political Economy of Africa Emerging From the Pandemic \n2.	Professor Malte Brosig (Wits University\, South Africa)\nWhat Role for Africa in a Changing Global Order? Actorness\, Influence and Marginalization. \n3.	Dr. Philani Mthembu (Institute for Global Dialogue\, Pretoria\, South Africa)\nAfrica and the World: Navigating Shifting Geopolitics \nWednesday\, December 15th\, 2021 \n08:30-10:00 GMT: The Belt and Road Initiative in Africa: Problems and Opportunities \nZoom Meeting: https://uni-goettingen.zoom.us/j/83875022790\nMeeting ID: 838 7502 2790 \nChair: Dr. Janice Jeong (Göttingen University\, Germany)  \n1.	Prof. Dr. Christoph Trebesch (Kiel Institut für Weltwirtschaft\, Kiel\, Germany)\nChina’s Overseas Lending \n2.	Professor Liu Haifang (Peking University\, China)\nOne Belt One Road + One Continent: What’s New for China-African Cooperation? \n3.	Dr. David Monyea (University of Johannesburg\, South Africa)\nThe African Dimension of the Belt and Road Initiative in the Advancement of the African Agenda 2063 \n12:00-13:30 GTM\, African Relations with China and the EU and Their Shifting Global Contexts\nZoom Meeting: https://uni-goettingen.zoom.us/j/89999386888\nMeeting ID: 899 9938 6888 \nChair: Dr. John Njenga Karugia (Humboldt University Berlin) \n1.	Professor Andreas Fuchs (Göttingen University\, Germany)\nChinese Development Aid: Distribution\, Consequences\, and Comparison with the EU \n2.	Professor Zeng Jinghan (Lancaster University\, the UK)\nDomestic Dynamics of China’s Rise and Foreign Policy? \n3.	Mr. Abdoulaye Ibrahim (UNESCO\, Paris\, France)\nProspective of Africa: Future of Africa and Tripartite Cooperation \nBios of Participants \nDr Hodan Abdi\nDr Hodan Abdi is an associate research fellow at the Institute of African Studies at Zhejiang Normal University. She is also currently an adjunct professor at City University of Mogadishu. Dr Abdi’s research focuses on China-Africa media relations and the Belt and Road Initiative. \nProf. Malte Brosig\nMalte Brosig is Professor of International Relations at the University of the Witwatersrand in Johannesburg. He joined the Department of International Relations in 2009 after he received his PhD from the Centre of European and International Relations Studies at the University of Portsmouth. \nDr. Martyn Davies\nDr Martyn Davies is the Managing Director of Emerging Markets & Africa at Deloitte as well as the Dean of Alchemy by Deloitte\, the firm’s School of Leadership. He leads Deloitte Africa’s CEO Programme and is a member of the Deloitte global economists team. \nProf. Andreas Fuchs\nProf. Andreas Fuchs is Professor of Development Economics and Director of the Centre for Modern East Asian Studies at the University of Göttingen and Director of the Kiel Institute China Initiative. His research analyzes trade\, investment and development policies with quantitative methods and a special focus on China and other emerging economies.  \nProf. He Wenping\nProf. He Wenping is Professor at the Institute of West-Asian and African Studies (IWAAS)\, Chinese Academy of Social Sciences (CASS). He is specializing on Africa’s relations with China and major western powers\, African democratic transition\, South-South cooperation and the Middle East international relations. \nProfessor Liu Haifang\nProf. Liu Haifang is an Associate Professor in School of International Studies\, Peking University. She serves as Deputy Director & Secretary General\, the Centre for African Studies\, Peking University and the Vice-Secretary General of the Chinese Society of African Historical Studies as well. \nMr. Abdoulaye Ibrahim\nMr. IBRAHIM Abdoulaye is the Head of Contextual Analysis and Foresight Unit at UNESCO\, he’s an Engineer Graduate in Science. IBRAHIM Abdoulaye\, as part of the implementation of UNESCO’s Global Priority Africa\, he is the focal point for Natural Sciences and Development and coordinates the organization of sub-regional forums in Africa on artificial intelligence since 2018. \nDr. Janice Jeong\nDr. Janice Hyeju Jeong joined the Joint Center of Advanced Studies “Worldmaking” and the Department of East Asian Studies at the University of Göttingen in 2021. She has with broad research interests in formations of Islamic networks between China and the Arabian Peninsula\, inter-Asian connections\, and history and anthropology. She pursued her doctorate degree in History at Duke University\, where she completed a thesis entitled “Between Shanghai and Mecca: Diaspora and Diplomacy of Chinese Muslims in the Twentieth Century.” \nProf. David Mills\nProf. David Mills is an Associate Professor at the Department of Education at the University of Oxford\, and Deputy Director of the Oxford Centre for Global Higher Education (CGHE). Trained in anthropology\, his research interests include African research and publishing cultures. \nDr. Philani Mthembu \nPhilani Mthembu is the Executive Director at Institute for Global Dialogue. Prior to joining the Institute for Global Dialogue associated with Unisa\, Philani Mthembu pursued a joint doctoral programme (Dr. rer. pol.) with the Graduate School of Global Politics\, Freie Universität Berlin (Germany)\, and the School of International Studies at Renmin University\, Beijing (China); he conducted his field research at the latter.  \nDr. Bhaso Ndzendze\nDr Ndzendze is a Senior Lecturer and Head of Department in the Department of Politics and International Relations at the University of Johannesburg. His research is centered on Africa’s international relations\, with a particular focus on the political economy of its trade.  \nDr Natasha Robinson\nDr Natasha Robinson is a Postdoctoral Researcher at the Department of Education at the University of Oxford. Natasha is interested in higher education in Africa\, and its potential to ‘decolonize’ global knowledge production.  \nProf. Dominic Sachsenmaier \nDominic Sachsenmaier is professor of “Modern China with a Special Emphasis on Global Historical Perspectives” and chair of the Department of East Asian Studies at Göttingen University/Germany. Before\, he held faculty positions at Jacobs University\, Duke University as well as the University of California\, Santa Barbara. Dominic Sachsenmaier is an elected member of the European Academy of Sciences and Arts\, and he is also one of the three editors of the book series „Columbia Studies in International and Global History.”  \nProf. Christoph Trebesch\nProf. Dr. Christoph Trebesch is Professor of Macroeconomics (tenured) in Kiel University and Head of Research Area “International Finance and Global Governance” in Kiel Institute Since April 2017. His main research interests focus on Sovereign Debt and Default\, International Capital Flows\, Financial Stability and Financial Crises\, Political Economy and International Financial Institutions.  \nProf. Jinghan Zeng\nJinghan Zeng is Professor of China and International Studies at Lancaster University. He is also the Director of Lancaster University Confucius Institute. Previously he was a Senior Lecturer of International Relations and Director of Centre for Politics in Africa\, Asia and the Middle East (AAME) at Royal Holloway\, University of London. Professor Zeng’s research lies in the field of China’s domestic and international politics. \nDr. Mengshu Zhan\nIn 2021\, Mengshu Zhan is currently a research fellow at the Joint Center for Advanced Studies “Worldmaking.” She received her doctoral degree from the Center for Global Study at Bonn University\, and her dissertation focused on perceptions of China in the eyes of South African elites. In 2019\, she worked at the Centre of Africa-China Studies in Johannesburg University\, South Africa. Mengshu Zhan received a Master of Arts in International Business and Diplomacy from University of East Anglia in the UK in 2014. \nResponsible for Workshop Conceptualization and Organization: Dr. Mengshu Zhan (Fellow\, Göttingen University). Contact: mengshu.zhan@uni-goettingen.de.
URL:https://www.sinologie-goettingen.de/en/events/workshop-organized-by-dr-mengshu-zhan-fellow-goettingen-university-africa-in-shifting-global-contexts-the-roles-of-china-and-the-eu/
LOCATION:Online
END:VEVENT
END:VCALENDAR