BEGIN:VCALENDAR
VERSION:2.0
PRODID:-//Chinese Studies - ECPv6.15.20//NONSGML v1.0//EN
CALSCALE:GREGORIAN
METHOD:PUBLISH
X-WR-CALNAME:Chinese Studies
X-ORIGINAL-URL:https://www.sinologie-goettingen.de/en/
X-WR-CALDESC:Events for Chinese Studies
REFRESH-INTERVAL;VALUE=DURATION:PT1H
X-Robots-Tag:noindex
X-PUBLISHED-TTL:PT1H
BEGIN:VTIMEZONE
TZID:Europe/Helsinki
BEGIN:DAYLIGHT
TZOFFSETFROM:+0200
TZOFFSETTO:+0300
TZNAME:EEST
DTSTART:20200329T010000
END:DAYLIGHT
BEGIN:STANDARD
TZOFFSETFROM:+0300
TZOFFSETTO:+0200
TZNAME:EET
DTSTART:20201025T010000
END:STANDARD
BEGIN:DAYLIGHT
TZOFFSETFROM:+0200
TZOFFSETTO:+0300
TZNAME:EEST
DTSTART:20210328T010000
END:DAYLIGHT
BEGIN:STANDARD
TZOFFSETFROM:+0300
TZOFFSETTO:+0200
TZNAME:EET
DTSTART:20211031T010000
END:STANDARD
BEGIN:DAYLIGHT
TZOFFSETFROM:+0200
TZOFFSETTO:+0300
TZNAME:EEST
DTSTART:20220327T010000
END:DAYLIGHT
BEGIN:STANDARD
TZOFFSETFROM:+0300
TZOFFSETTO:+0200
TZNAME:EET
DTSTART:20221030T010000
END:STANDARD
END:VTIMEZONE
BEGIN:VEVENT
DTSTART;TZID=Europe/Helsinki:20211208T130000
DTEND;TZID=Europe/Helsinki:20211208T143000
DTSTAMP:20260424T091812
CREATED:20211110T121952Z
LAST-MODIFIED:20211110T122022Z
UID:34096-1638968400-1638973800@www.sinologie-goettingen.de
SUMMARY:“Contemporary Theater Arts” Seminar Series No. 7: Chan Kwok Wai Bernice: "Illustrating the Stage of Hong Kong for Audiences of the Present and the Future  - My Creative Journey as a Curator of the Exhibition "A Snap beyond Borders""
DESCRIPTION:“Contemporary Theater Arts” Seminar Series No. 7 \nIllustrating the Stage of Hong Kong for Audiences of the Present and the Future – My Creative Journey as a Curator of the Exhibition “A Snap beyond Borders” \nSpeaker: Chan Kwok Wai Bernice \nLanguage: English \nZoom Meeting: https://uni-goettingen.zoom.us/j/96420658426?pwd=U0VyTHlHUWRISFMxRm1XLzZnQ250UT09\nMeeting ID: 964 2065 8426\nPasscode: 339948 \nBio:\nChan Kwok Wai Bernice is currently the General Manager of the International Association of Theatre Crit-ics (Hong Kong)\, and an Examiner for the Hong Kong Arts Development Council (Drama Committee). She is also a Panel Member of the Hong Kong Drama Awards\, the Hong Kong Theatre Libre\, and the IATC(HK) Critics Awards\, as well as an Executive Committee Member of the International Association of Libraries\, Museums\, Archives and Documentation Centres of the Performing Arts (SIBMAS). \nShe received the Hong Kong Arts Development Council-University of Leeds-Chevening Scholarships in 2005 and obtained her Master of Arts in Theatre Studies from the University of Leeds (UK). She was also an Art Form Panel Member (Festivals) of the Leisure and Cultural Services Department (2011–2016)\, an Advisory Committee Member of School of Drama\, the Hong Kong of Academy for Performing Arts (2017–2018)\, as well as a guest host of Artscritique (2007–2018)and a Radio and Television Hong Kong radio programme. Chan has curated and edited over 50 publishing projects about performing arts. Her recent editorial projects have included Ten Years of A City: Selected Hong Kong Plays (2003–2012)\, which was awarded the 11th Hong Kong Book Prize in 2018\, and “A Snap beyond Borders: An Online Archive and Education Project of Hong Kong Theatre and Performance Photography”.
URL:https://www.sinologie-goettingen.de/en/events/contemporary-theater-arts-seminar-series-no-7-chan-kwok-wai-bernice-illustrating-the-stage-of-hong-kong-for-audiences-of-the-present-and-the-future-my-creative-journey-as-a-c/
LOCATION:Online
END:VEVENT
BEGIN:VEVENT
DTSTART;TZID=Europe/Helsinki:20211208T131500
DTEND;TZID=Europe/Helsinki:20211208T144500
DTSTAMP:20260424T091812
CREATED:20211104T073308Z
LAST-MODIFIED:20211104T073333Z
UID:34049-1638969300-1638974700@www.sinologie-goettingen.de
SUMMARY:Online-Lecture: Prof. Cao Yin (Tsinghua University): "India-China Connections from Subaltern Perspectives"
DESCRIPTION:Abstract: \nThe history of India-China connections has long been explored from elite perspectives (religious\, intellectual\, and political)\, while few have ever paid attention to how ordinary Indians and Chinese interacted and how their lives were connected. This talk will focus on cases in the first half of the twentieth century\, including the experiences of Sikh policemen in Shanghai during the Interwar Period and Chinese deserter in India during the Second World War. Through telling their stories\, the talk will try to demonstrate how the desires\, ambitions\, and activities of ordinary Indians and Chinese have shaped the two countries relations until the present day. \nBio: \nCao Yin is Associate Professor and Cyrus Tang Scholar in the Department of History\, Tsinghua University. He works on modern Indian history\, global history\, and India-China connections. He is the author of From Policemen to Revolutionaries: A Sikh Diaspora in Global Shanghai\, 1885-1945 (Leiden: Brill\, 2017) and Chinese Sojourners in Wartime Raj\, 1941-45 (Oxford: Oxford University Press\, upcoming).
URL:https://www.sinologie-goettingen.de/en/events/online-lecture-prof-cao-yin-tsinghua-university-india-china-connections-from-subaltern-perspectives/
LOCATION:Online
END:VEVENT
END:VCALENDAR