BEGIN:VCALENDAR
VERSION:2.0
PRODID:-//Chinese Studies - ECPv6.15.20//NONSGML v1.0//EN
CALSCALE:GREGORIAN
METHOD:PUBLISH
X-WR-CALNAME:Chinese Studies
X-ORIGINAL-URL:https://www.sinologie-goettingen.de/en/
X-WR-CALDESC:Events for Chinese Studies
REFRESH-INTERVAL;VALUE=DURATION:PT1H
X-Robots-Tag:noindex
X-PUBLISHED-TTL:PT1H
BEGIN:VTIMEZONE
TZID:Europe/Helsinki
BEGIN:DAYLIGHT
TZOFFSETFROM:+0200
TZOFFSETTO:+0300
TZNAME:EEST
DTSTART:20200329T010000
END:DAYLIGHT
BEGIN:STANDARD
TZOFFSETFROM:+0300
TZOFFSETTO:+0200
TZNAME:EET
DTSTART:20201025T010000
END:STANDARD
BEGIN:DAYLIGHT
TZOFFSETFROM:+0200
TZOFFSETTO:+0300
TZNAME:EEST
DTSTART:20210328T010000
END:DAYLIGHT
BEGIN:STANDARD
TZOFFSETFROM:+0300
TZOFFSETTO:+0200
TZNAME:EET
DTSTART:20211031T010000
END:STANDARD
BEGIN:DAYLIGHT
TZOFFSETFROM:+0200
TZOFFSETTO:+0300
TZNAME:EEST
DTSTART:20220327T010000
END:DAYLIGHT
BEGIN:STANDARD
TZOFFSETFROM:+0300
TZOFFSETTO:+0200
TZNAME:EET
DTSTART:20221030T010000
END:STANDARD
END:VTIMEZONE
BEGIN:VEVENT
DTSTART;TZID=Europe/Helsinki:20211207T181500
DTEND;TZID=Europe/Helsinki:20211207T201500
DTSTAMP:20260424T091812
CREATED:20211130T120919Z
LAST-MODIFIED:20211130T121010Z
UID:34146-1638900900-1638908100@www.sinologie-goettingen.de
SUMMARY:Alessandro Rippa (Rachel Carson Center for Environment and Society\, Ludwig-Maximilians-Universität München): "Borderland Infrastructures: Trade\, Development\, and Control in Western China"
DESCRIPTION:ABSTRACT: \nAcross the Chinese borderlands\, investments in large-scale transnational infrastructure such as roads and special economic zones have increased exponentially over the past two decades. Based on long-term ethnographic research\, Borderland Infrastructures addresses a major contradiction at the heart of this fast-paced development: small-scale traders have lost their historic strategic advantages under the growth of massive Chinese state investment and are now struggling to keep their businesses afloat. Concurrently\, local ethnic minorities have become the target of radical resettlement projects\, securitization\, and tourism initiatives\, and have in many cases grown increasingly dependent on state subsidies. At the juncture of anthropological explorations of the state\, border studies\, and research on transnational trade and infrastructure development\, Borderland Infrastructures provides new analytical tools to understand how state power is experienced\, mediated\, and enacted in Xinjiang and Yunnan. \nMore information and a link to the PDF of the book which is fully Open Access:\nhttps://www.aup.nl/en/book/9789463725606/borderland-infrastructures \nSHORT BIO:\nAlessandro is a social anthropologist interested in issues surrounding infrastructure\, borders\, globalisation\, conservation and the environment\, particularly in the contexts of the China-Myanmar borderlands and the Italian Alps. He is the author of Borderland Infrastructures: Trade\, Development\, and Control in Western China (Amsterdam University Press\, 2020) and of numerous articles in journals such as Social Anthropology\, The China Journal\, Political Geography\, and Ethnos. Alessandro obtained his PhD in Social Anthropology at the University of Aberdeen in 2015\, and held postdoctoral positions at LMU Munich and at the University of Colorado\, Boulder. He is currently based at the Rachel Carson Center for Environment and Society\, LMU Munich\, where he leads the 5-year project Environing Infrastructure (www.environing.asia) funded by a “freigeist” fellowship from the Volkswagen Foundation. Alessandro is currently on leave from his position as Associate Professor of Chinese Studies at Tallinn University.\n\nhttps://uni-goettingen.zoom.us/j/96044733388?pwd=YU1HbkVnam5CbmZGdXNzeHlWOVJMdz09\nMeeting ID 960 4473 3388\nPasscode 948177
URL:https://www.sinologie-goettingen.de/en/events/alessandro-rippa-rachel-carson-center-for-environment-and-society-ludwig-maximilians-universitaet-muenchen-borderland-infrastructures-trade-development-and-control-in-western-china/
LOCATION:Online
END:VEVENT
END:VCALENDAR