BEGIN:VCALENDAR
VERSION:2.0
PRODID:-//Chinese Studies - ECPv6.15.20//NONSGML v1.0//EN
CALSCALE:GREGORIAN
METHOD:PUBLISH
X-ORIGINAL-URL:https://www.sinologie-goettingen.de/en/
X-WR-CALDESC:Events for Chinese Studies
REFRESH-INTERVAL;VALUE=DURATION:PT1H
X-Robots-Tag:noindex
X-PUBLISHED-TTL:PT1H
BEGIN:VTIMEZONE
TZID:Europe/Helsinki
BEGIN:DAYLIGHT
TZOFFSETFROM:+0200
TZOFFSETTO:+0300
TZNAME:EEST
DTSTART:20200329T010000
END:DAYLIGHT
BEGIN:STANDARD
TZOFFSETFROM:+0300
TZOFFSETTO:+0200
TZNAME:EET
DTSTART:20201025T010000
END:STANDARD
BEGIN:DAYLIGHT
TZOFFSETFROM:+0200
TZOFFSETTO:+0300
TZNAME:EEST
DTSTART:20210328T010000
END:DAYLIGHT
BEGIN:STANDARD
TZOFFSETFROM:+0300
TZOFFSETTO:+0200
TZNAME:EET
DTSTART:20211031T010000
END:STANDARD
BEGIN:DAYLIGHT
TZOFFSETFROM:+0200
TZOFFSETTO:+0300
TZNAME:EEST
DTSTART:20220327T010000
END:DAYLIGHT
BEGIN:STANDARD
TZOFFSETFROM:+0300
TZOFFSETTO:+0200
TZNAME:EET
DTSTART:20221030T010000
END:STANDARD
END:VTIMEZONE
BEGIN:VEVENT
DTSTART;TZID=Europe/Helsinki:20211130T100000
DTEND;TZID=Europe/Helsinki:20211130T113000
DTSTAMP:20260424T072837
CREATED:20211022T051309Z
LAST-MODIFIED:20211022T051339Z
UID:33961-1638266400-1638271800@www.sinologie-goettingen.de
SUMMARY:China Platform: Taiwan Lecture Café Series 2021
DESCRIPTION:Wednesday 27 October\nLiao Hsien-hao (National Taiwan University)\n“Taiwan at the crossroads: Between Central Kingdom and Seafaring Pirates” \nWednesday 3 November\nYeh Kuo-chün (National Taiwan University)\n“Did China’s soft power seduction lure Taiwan’s youth? Preliminary evidence for employment and entrepreneurship” \nWednesday 10 November\nLee Yu-Ting (National Taiwan University)\n“Problems of East Asian Historical Narrative: Compared with Europe” \nWednesday 17 November\nHwang Yih-Jye (The Hague University College)\n“The Origin and Development of International Studies in Taiwan” \nWednesday 24 November\nChen Yi-Ling (University of Wyoming)\n“Governed by the Market: The Rise of Social Housing Movement and its Obstacles in Taiwan” \nTuesday 30 November*\nHsiung Ping-Chen (University of California\, Irvine)\n“Further Reflections on the Migrating Taste: Development of Taiwanese Food Culture in the Postwar Era” \nTime 11:30-13:00 (CET)\n     *10:00-11:30 (CET) \nOnline registration: https://eventmanager.ugent.be/TaiwanLC
URL:https://www.sinologie-goettingen.de/en/events/china-platform-taiwan-lecture-cafe-series-2021-2/
LOCATION:Online
END:VEVENT
BEGIN:VEVENT
DTSTART;TZID=Europe/Helsinki:20211130T181500
DTEND;TZID=Europe/Helsinki:20211130T201500
DTSTAMP:20260424T072837
CREATED:20211124T084231Z
LAST-MODIFIED:20211124T084256Z
UID:34113-1638296100-1638303300@www.sinologie-goettingen.de
SUMMARY:Dr. Mohammed Al-Sudairi (Hong Kong University): "Yellow Peril with a Dash of Green?: Global Fantasies on an Islamized China at the Turn of the Twentieth Century"
DESCRIPTION:Bio: Mohammed Al-Sudairi is a Post-doctoral Fellow at the Hong Kong Institute for Humanities and Social Sciences and is a Senior Research Fellow and Head of the Asian Studies Unit at the King Faisal Center for Research and Islamic Studies. He obtained his PhD in Comparative Politics from the University of Hong Kong\, his master’s degree in International Relations from the Peking University and in International History from the London School of Economics (joint program)\, and his undergraduate degree in International Politics from the Georgetown University’s School of Foreign Service. He is proficient in Arabic\, English\, and Chinese. His research interests encompass Sino-Middle Eastern relations\, Islamic and leftist connections between East Asia and the Arab World\, and Chinese politics.  \nhttps://uni-goettingen.zoom.us/skype/93990758044 \nMeeting-ID: 939 9075 8044 \nCode: 957008
URL:https://www.sinologie-goettingen.de/en/events/dr-mohammed-al-sudairi-hong-kong-university-yellow-peril-with-a-dash-of-green-global-fantasies-on-an-islamized-china-at-the-turn-of-the-twentieth-century/
LOCATION:Online
END:VEVENT
END:VCALENDAR