BEGIN:VCALENDAR
VERSION:2.0
PRODID:-//Chinese Studies - ECPv6.15.20//NONSGML v1.0//EN
CALSCALE:GREGORIAN
METHOD:PUBLISH
X-WR-CALNAME:Chinese Studies
X-ORIGINAL-URL:https://www.sinologie-goettingen.de/en/
X-WR-CALDESC:Events for Chinese Studies
REFRESH-INTERVAL;VALUE=DURATION:PT1H
X-Robots-Tag:noindex
X-PUBLISHED-TTL:PT1H
BEGIN:VTIMEZONE
TZID:Europe/Helsinki
BEGIN:DAYLIGHT
TZOFFSETFROM:+0200
TZOFFSETTO:+0300
TZNAME:EEST
DTSTART:20200329T010000
END:DAYLIGHT
BEGIN:STANDARD
TZOFFSETFROM:+0300
TZOFFSETTO:+0200
TZNAME:EET
DTSTART:20201025T010000
END:STANDARD
BEGIN:DAYLIGHT
TZOFFSETFROM:+0200
TZOFFSETTO:+0300
TZNAME:EEST
DTSTART:20210328T010000
END:DAYLIGHT
BEGIN:STANDARD
TZOFFSETFROM:+0300
TZOFFSETTO:+0200
TZNAME:EET
DTSTART:20211031T010000
END:STANDARD
BEGIN:DAYLIGHT
TZOFFSETFROM:+0200
TZOFFSETTO:+0300
TZNAME:EEST
DTSTART:20220327T010000
END:DAYLIGHT
BEGIN:STANDARD
TZOFFSETFROM:+0300
TZOFFSETTO:+0200
TZNAME:EET
DTSTART:20221030T010000
END:STANDARD
END:VTIMEZONE
BEGIN:VEVENT
DTSTART;TZID=Europe/Helsinki:20211120T090000
DTEND;TZID=Europe/Helsinki:20211120T120000
DTSTAMP:20260424T091811
CREATED:20211020T083143Z
LAST-MODIFIED:20211020T083326Z
UID:33944-1637398800-1637409600@www.sinologie-goettingen.de
SUMMARY:汉语教学培训 线上讲座 Chinesischlehrerfortbildung – Online-Veranstaltung
DESCRIPTION:汉语教学中的差异化教学 Differenzierung im Chinesischunterricht \n培训\n内容:\n• 差异化教学及其理论基础：多元智能理论与布鲁姆教育目标分类\n• 华裔学习者与非华裔学习者、汉语传承语教学（ Heritage Language Teaching ）与传统的外语教学（ Foreign Language Teaching ）的异同\n• 成人汉语教学中的差异化教学设计和案例\n• 儿童汉语教学中的差异化教学设计和案例。 \nInhalt:\n• Differenzierung im Unterricht und ihre theoretischen Grundlagen: Multifaktorielle Intelligenztheorien und Blooms Taxonomie der Lernziele;\n• Unterschiede im Spracherwerb zwischen chinesischstämmigen und nicht chinesischstämmigen Lernenden\, Gemeinsamkeiten und Unterschiede zwischen Herkunftsprachenunterricht (Heritage Language Teaching) und Fremdsprachenunterricht (Foreign Language Learning);\n• Differenzierung im Chinesischunterricht mit erwachsenen Lernenden Unterrichtsplanung und Fallbeispiele;\n• Differenzierung im Chinesischunterricht mit Kindern Unterrichtsplanung und Fallbeispiele. \n曹贤文，南京大学教授、博士生导师，中国语言战略研究中心研究员、世界汉语教学学会理事、世汉学会教师发展专业委员会副主任委员，长期在国内外从事一线教学和研究工作，发表学术论文50余篇，出版专著、教材等10余部。Prof. Dr. CAO Xianwen lehrt an der Universität Nanjing und forscht am Chinesischen Forschungszetrum für Sprachstrategien. Er ist Mitglied im Vorstand der International Society for Chinese Language Teaching (ISCLT) und stellvertretender Vorsitzender des Fachausschusses für Lehrkräftebildung des ISCLT. Seit langem an vorderster Front in einschlägiger Lehre und Forschung im In- und Ausland tätig\, hat Prof. Cao über 50 Fachzeitschriftenartikel und mehr als zehn Fach- und Lehrbücher veröffentlicht. \n张凤永，南京大学海外教育学院汉语教师，持有国际可理解输入工作坊（TCI）专业培训证书和剑桥成人英语教学证书（CELTA）。曾参与联合国职员中文培训项目等项目。Frau ZHANG Fengyong ist Chinesischlehrerin am Institut für Fremdsprachen der Universität Nanjing und besitzt das Certificate in English Language Teaching to Adults (CELTA) der Universität Cambridge sowie ein Zertifikat für Teaching with Comprehensible Input (TCI). Sie wirkte als Chinesischlehrerin in zahlreichen internationalen Programmen mit\, u.a. im Rahmen des Chinesisch-Ausbildungsprogramms für Mitarbeitende der Vereinten Nationen usw. \n本次工作坊工作语言为中文 。Der Workshop findet in chinesischer Sprache statt. \n此次工作坊名额有限 请有意参加培训的老师 同学 尽快报名 报名截止日期：20 2 1 年 10 月 31 日 。Aufgrund der begrenzten Teilnehmerzahl bitten wir um rechtzeitige Anmeldung bis zum 31. Oktober 2021. \n报名方式 Anmeldung ausschließlich über Link. \n检视更多 Weitere Informationen erhalten Sie hier.
URL:https://www.sinologie-goettingen.de/en/events/%e6%b1%89%e8%af%ad%e6%95%99%e5%ad%a6%e5%9f%b9%e8%ae%ad-%e7%ba%bf%e4%b8%8a%e8%ae%b2%e5%ba%a7-chinesischlehrerfortbildung-online-veranstaltung/
LOCATION:Online
END:VEVENT
END:VCALENDAR