BEGIN:VCALENDAR
VERSION:2.0
PRODID:-//Chinese Studies - ECPv6.15.20//NONSGML v1.0//EN
CALSCALE:GREGORIAN
METHOD:PUBLISH
X-ORIGINAL-URL:https://www.sinologie-goettingen.de/en/
X-WR-CALDESC:Events for Chinese Studies
REFRESH-INTERVAL;VALUE=DURATION:PT1H
X-Robots-Tag:noindex
X-PUBLISHED-TTL:PT1H
BEGIN:VTIMEZONE
TZID:Europe/Helsinki
BEGIN:DAYLIGHT
TZOFFSETFROM:+0200
TZOFFSETTO:+0300
TZNAME:EEST
DTSTART:20200329T010000
END:DAYLIGHT
BEGIN:STANDARD
TZOFFSETFROM:+0300
TZOFFSETTO:+0200
TZNAME:EET
DTSTART:20201025T010000
END:STANDARD
BEGIN:DAYLIGHT
TZOFFSETFROM:+0200
TZOFFSETTO:+0300
TZNAME:EEST
DTSTART:20210328T010000
END:DAYLIGHT
BEGIN:STANDARD
TZOFFSETFROM:+0300
TZOFFSETTO:+0200
TZNAME:EET
DTSTART:20211031T010000
END:STANDARD
BEGIN:DAYLIGHT
TZOFFSETFROM:+0200
TZOFFSETTO:+0300
TZNAME:EEST
DTSTART:20220327T010000
END:DAYLIGHT
BEGIN:STANDARD
TZOFFSETFROM:+0300
TZOFFSETTO:+0200
TZNAME:EET
DTSTART:20221030T010000
END:STANDARD
END:VTIMEZONE
BEGIN:VEVENT
DTSTART;TZID=Europe/Helsinki:20210720T160000
DTEND;TZID=Europe/Helsinki:20210720T180000
DTSTAMP:20260425T001023
CREATED:20210520T061926Z
LAST-MODIFIED:20210520T061957Z
UID:33291-1626796800-1626804000@www.sinologie-goettingen.de
SUMMARY:Lecture: Maritime Security and Strategic Implications in  the South China Sea (Dr. Sarah Kirchberger)
DESCRIPTION:Dr. Sarah Kirchberger\nLeiterin der Abteilung Strategische Entwicklung in Asien-Pazifik am Institut für Sicherheitspolitik an der Universität Kiel \nZoom-Link: https://s.gwdg.de/JFiAoJ
URL:https://www.sinologie-goettingen.de/en/events/lecture-maritime-security-and-strategic-implications-in-the-south-china-sea-dr-sarah-kirchberger/
LOCATION:Online (Zoom)
END:VEVENT
END:VCALENDAR