BEGIN:VCALENDAR
VERSION:2.0
PRODID:-//Chinese Studies - ECPv6.15.20//NONSGML v1.0//EN
CALSCALE:GREGORIAN
METHOD:PUBLISH
X-WR-CALNAME:Chinese Studies
X-ORIGINAL-URL:https://www.sinologie-goettingen.de/en/
X-WR-CALDESC:Events for Chinese Studies
REFRESH-INTERVAL;VALUE=DURATION:PT1H
X-Robots-Tag:noindex
X-PUBLISHED-TTL:PT1H
BEGIN:VTIMEZONE
TZID:Europe/Helsinki
BEGIN:DAYLIGHT
TZOFFSETFROM:+0200
TZOFFSETTO:+0300
TZNAME:EEST
DTSTART:20200329T010000
END:DAYLIGHT
BEGIN:STANDARD
TZOFFSETFROM:+0300
TZOFFSETTO:+0200
TZNAME:EET
DTSTART:20201025T010000
END:STANDARD
BEGIN:DAYLIGHT
TZOFFSETFROM:+0200
TZOFFSETTO:+0300
TZNAME:EEST
DTSTART:20210328T010000
END:DAYLIGHT
BEGIN:STANDARD
TZOFFSETFROM:+0300
TZOFFSETTO:+0200
TZNAME:EET
DTSTART:20211031T010000
END:STANDARD
BEGIN:DAYLIGHT
TZOFFSETFROM:+0200
TZOFFSETTO:+0300
TZNAME:EEST
DTSTART:20220327T010000
END:DAYLIGHT
BEGIN:STANDARD
TZOFFSETFROM:+0300
TZOFFSETTO:+0200
TZNAME:EET
DTSTART:20221030T010000
END:STANDARD
END:VTIMEZONE
BEGIN:VEVENT
DTSTART;TZID=Europe/Helsinki:20210615T160000
DTEND;TZID=Europe/Helsinki:20210615T180000
DTSTAMP:20260425T030138
CREATED:20210520T061357Z
LAST-MODIFIED:20210520T061423Z
UID:33287-1623772800-1623780000@www.sinologie-goettingen.de
SUMMARY:Lecture: China’s Ambitions in East Asia: Implications for Security and Stability (Helena Legarda)
DESCRIPTION:Helena Legarda\nSenior analyst\, Mercator Institute for Chinese Studies\, Berlin \nZoom-Link: https://s.gwdg.de/MQZZWW
URL:https://www.sinologie-goettingen.de/en/events/lecture-chinas-ambitions-in-east-asia-implications-for-security-and-stability-helena-legarda/
LOCATION:Online (Zoom)
END:VEVENT
END:VCALENDAR