BEGIN:VCALENDAR
VERSION:2.0
PRODID:-//Chinese Studies - ECPv6.15.20//NONSGML v1.0//EN
CALSCALE:GREGORIAN
METHOD:PUBLISH
X-WR-CALNAME:Chinese Studies
X-ORIGINAL-URL:https://www.sinologie-goettingen.de/en/
X-WR-CALDESC:Events for Chinese Studies
REFRESH-INTERVAL;VALUE=DURATION:PT1H
X-Robots-Tag:noindex
X-PUBLISHED-TTL:PT1H
BEGIN:VTIMEZONE
TZID:Europe/Helsinki
BEGIN:DAYLIGHT
TZOFFSETFROM:+0200
TZOFFSETTO:+0300
TZNAME:EEST
DTSTART:20190331T010000
END:DAYLIGHT
BEGIN:STANDARD
TZOFFSETFROM:+0300
TZOFFSETTO:+0200
TZNAME:EET
DTSTART:20191027T010000
END:STANDARD
BEGIN:DAYLIGHT
TZOFFSETFROM:+0200
TZOFFSETTO:+0300
TZNAME:EEST
DTSTART:20200329T010000
END:DAYLIGHT
BEGIN:STANDARD
TZOFFSETFROM:+0300
TZOFFSETTO:+0200
TZNAME:EET
DTSTART:20201025T010000
END:STANDARD
BEGIN:DAYLIGHT
TZOFFSETFROM:+0200
TZOFFSETTO:+0300
TZNAME:EEST
DTSTART:20210328T010000
END:DAYLIGHT
BEGIN:STANDARD
TZOFFSETFROM:+0300
TZOFFSETTO:+0200
TZNAME:EET
DTSTART:20211031T010000
END:STANDARD
END:VTIMEZONE
BEGIN:VEVENT
DTSTART;TZID=Europe/Helsinki:20200122T180000
DTEND;TZID=Europe/Helsinki:20200122T200000
DTSTAMP:20260426T044808
CREATED:20191216T101403Z
LAST-MODIFIED:20200115T072858Z
UID:32185-1579716000-1579723200@www.sinologie-goettingen.de
SUMMARY:Dr. Kiras Perincek (Bogacizi University\, Istanbul): From China to Europe: the Travel of 14th/15th Century Paintings
DESCRIPTION:Abstract:\nThe so-called Mehmet Siyah Kalem paintings\, were produced on paper with brush and ink in a Chinese hinterland near Central Asia\, during the 14th and 15th centuries. These paintings depicted scenes from folk stories\, and they were cut and pasted into two albums in the Aqqoyunlu palace in Tabriz. They are brought by the Ottomans to Istanbul after the conquest of Tabriz at the beginning of the 16th century. \nMost of them kept now in Topkapi Palace Library in Istanbul\, they reflect the intercultural relations along the Silk Road during the Middle Ages\, in terms of both artistic and narrative elements. They consist a case of mobility where the art subject\, the artist\, the artisanship\, the artwork are all mobile during the Middle Ages along the Silk Road. Purchased by European collectors in the 1900s\, some pieces traveled also further west from Istanbul.
URL:https://www.sinologie-goettingen.de/en/events/dr-kiras-perincek-bogacizi-university-istanbul-from-china-to-europe-the-travel-of-14th-15th-century-paintings/
LOCATION:Zentrales Hörsaalgebäude\, Raum ZHG 1.141\, Platz der Göttinger Sieben 5\, Göttingen\, 37073
END:VEVENT
END:VCALENDAR