BEGIN:VCALENDAR
VERSION:2.0
PRODID:-//Chinese Studies - ECPv6.15.20//NONSGML v1.0//EN
CALSCALE:GREGORIAN
METHOD:PUBLISH
X-WR-CALNAME:Chinese Studies
X-ORIGINAL-URL:https://www.sinologie-goettingen.de/en/
X-WR-CALDESC:Events for Chinese Studies
REFRESH-INTERVAL;VALUE=DURATION:PT1H
X-Robots-Tag:noindex
X-PUBLISHED-TTL:PT1H
BEGIN:VTIMEZONE
TZID:Europe/Helsinki
BEGIN:DAYLIGHT
TZOFFSETFROM:+0200
TZOFFSETTO:+0300
TZNAME:EEST
DTSTART:20190331T010000
END:DAYLIGHT
BEGIN:STANDARD
TZOFFSETFROM:+0300
TZOFFSETTO:+0200
TZNAME:EET
DTSTART:20191027T010000
END:STANDARD
BEGIN:DAYLIGHT
TZOFFSETFROM:+0200
TZOFFSETTO:+0300
TZNAME:EEST
DTSTART:20200329T010000
END:DAYLIGHT
BEGIN:STANDARD
TZOFFSETFROM:+0300
TZOFFSETTO:+0200
TZNAME:EET
DTSTART:20201025T010000
END:STANDARD
BEGIN:DAYLIGHT
TZOFFSETFROM:+0200
TZOFFSETTO:+0300
TZNAME:EEST
DTSTART:20210328T010000
END:DAYLIGHT
BEGIN:STANDARD
TZOFFSETFROM:+0300
TZOFFSETTO:+0200
TZNAME:EET
DTSTART:20211031T010000
END:STANDARD
END:VTIMEZONE
BEGIN:VEVENT
DTSTART;TZID=Europe/Helsinki:20200117T170000
DTEND;TZID=Europe/Helsinki:20200117T190000
DTSTAMP:20260426T060402
CREATED:20191216T101019Z
LAST-MODIFIED:20191216T101047Z
UID:32179-1579280400-1579287600@www.sinologie-goettingen.de
SUMMARY:Prof. Dr. Bart Dessein (Ghent University\, Belgium): Historical Narrative\, Remembrance\, and the Ordering of the World: A Historical Approach of China’s Contemporary Presence in Central Asia
DESCRIPTION:Abstract:\nChina’s imperial history is characterized by the expansion and reduction of zones of Chinese cultural influence. This cultural influence also applies to Central Asia\, which was part of China’s zone of cultural influence during the Tang Dynasty (618-907). The literature portrays the Tang Emperor as the “Khan” of these regions. The territorial expansion of the Mongol Yuan Dynasty (1368-1644) and the Manchu Qing Dynasty (1644-1911) also brought parts of Central Asia into China’s polity\, albeit under different political structures. For Europe as well\, Central Asia developed into an “intermediate land\,” an area inhabited by\, among others\, descendants of Hellenistic culture brought into the region by Alexander the Great (356-323 BC). The Central Asian region was also the link between Europe and the Far East through the presence of Europeans in the Mongolian Empire. In this lecture\, the importance of the Chinese ‘One Belt One Road Initiative’ will be discussed against the backdrop of the “historical awareness” of China and Europe.
URL:https://www.sinologie-goettingen.de/en/events/prof-dr-bart-dessein-ghent-university-belgium-historical-narrative-remembrance-and-the-ordering-of-the-world-a-historical-approach-of-chinas-contemporary-presence-in-central-asia/
LOCATION:Kulturwissenschaftliches Zentrum\, KWZ 0.607\, Heinrich-Düker-Weg 14\, Göttingen\, 37073\, Deutschland
END:VEVENT
END:VCALENDAR