BEGIN:VCALENDAR
VERSION:2.0
PRODID:-//Chinese Studies - ECPv6.15.20//NONSGML v1.0//EN
CALSCALE:GREGORIAN
METHOD:PUBLISH
X-WR-CALNAME:Chinese Studies
X-ORIGINAL-URL:https://www.sinologie-goettingen.de/en/
X-WR-CALDESC:Events for Chinese Studies
REFRESH-INTERVAL;VALUE=DURATION:PT1H
X-Robots-Tag:noindex
X-PUBLISHED-TTL:PT1H
BEGIN:VTIMEZONE
TZID:Europe/Helsinki
BEGIN:DAYLIGHT
TZOFFSETFROM:+0200
TZOFFSETTO:+0300
TZNAME:EEST
DTSTART:20190331T010000
END:DAYLIGHT
BEGIN:STANDARD
TZOFFSETFROM:+0300
TZOFFSETTO:+0200
TZNAME:EET
DTSTART:20191027T010000
END:STANDARD
BEGIN:DAYLIGHT
TZOFFSETFROM:+0200
TZOFFSETTO:+0300
TZNAME:EEST
DTSTART:20200329T010000
END:DAYLIGHT
BEGIN:STANDARD
TZOFFSETFROM:+0300
TZOFFSETTO:+0200
TZNAME:EET
DTSTART:20201025T010000
END:STANDARD
BEGIN:DAYLIGHT
TZOFFSETFROM:+0200
TZOFFSETTO:+0300
TZNAME:EEST
DTSTART:20210328T010000
END:DAYLIGHT
BEGIN:STANDARD
TZOFFSETFROM:+0300
TZOFFSETTO:+0200
TZNAME:EET
DTSTART:20211031T010000
END:STANDARD
END:VTIMEZONE
BEGIN:VEVENT
DTSTART;TZID=Europe/Helsinki:20200114T180000
DTEND;TZID=Europe/Helsinki:20200114T200000
DTSTAMP:20260426T060401
CREATED:20191203T090405Z
LAST-MODIFIED:20191203T090629Z
UID:32146-1579024800-1579032000@www.sinologie-goettingen.de
SUMMARY:Hans-Günther Herrmann: "Die nationale und internationale Rechtslage Hongkongs vor dem Hintergrund aktueller Entwicklungen."
DESCRIPTION:Abstract:\nHongkong genießt dem Basic Law zufolge einen „hohen Grad der Autonomie“. Dieses Selbstverwaltungsrecht ist aber vom Gesetz nicht abschließend definiert\, sondern wird durch die Rechtsprechung der Hongkonger Gerichte einerseits und Maßnahmen der chinesischen Zentralregierung andererseits schrittweise ausgestaltet. Diese Dynamik\, in der beide Seiten agieren und reagieren und sich selbst Beschränkungen auflegen\, setzt sich bis hin zu aktuellen Gerichtsurteilen fort. Daneben beeinflussen zwei externe Entwicklungen die Fähigkeit Hongkongs\, seine Zukunft rechtlich selbständig zu gestalten: Erstens könnte Hongkong in den Handelsstreit zwischen den USA und China hineingezogen werden\, unter anderem durch den amerikainischen “Hong Kong Human Rights and Democracy Act”. Zweitens stellt die zunehmende wirtschaftliche Integration Hongkongs in die chinesische Wirtschaft in Frage\, inwieweit Hongkonger Rechtsnormen in Zukunft umgesetzt werden können. Angesichts der Planung für das „Greater Bay Area“ in Südchina zeichnen sich mehrere problematische Berührungspunkte ab.
URL:https://www.sinologie-goettingen.de/en/events/hans-guenther-herrmann-die-nationale-und-internationale-rechtslage-hongkongs-vor-dem-hintergrund-aktueller-entwicklungen/
LOCATION:Kulturwissenschaftliches Zentrum\, KWZ 1.701\, Heinrich-Düker-Weg 14\, Göttingen\, 37073\, Deutschland
END:VEVENT
END:VCALENDAR