BEGIN:VCALENDAR
VERSION:2.0
PRODID:-//Chinese Studies - ECPv6.15.20//NONSGML v1.0//EN
CALSCALE:GREGORIAN
METHOD:PUBLISH
X-ORIGINAL-URL:https://www.sinologie-goettingen.de/en/
X-WR-CALDESC:Events for Chinese Studies
REFRESH-INTERVAL;VALUE=DURATION:PT1H
X-Robots-Tag:noindex
X-PUBLISHED-TTL:PT1H
BEGIN:VTIMEZONE
TZID:Europe/Helsinki
BEGIN:DAYLIGHT
TZOFFSETFROM:+0200
TZOFFSETTO:+0300
TZNAME:EEST
DTSTART:20190331T010000
END:DAYLIGHT
BEGIN:STANDARD
TZOFFSETFROM:+0300
TZOFFSETTO:+0200
TZNAME:EET
DTSTART:20191027T010000
END:STANDARD
BEGIN:DAYLIGHT
TZOFFSETFROM:+0200
TZOFFSETTO:+0300
TZNAME:EEST
DTSTART:20200329T010000
END:DAYLIGHT
BEGIN:STANDARD
TZOFFSETFROM:+0300
TZOFFSETTO:+0200
TZNAME:EET
DTSTART:20201025T010000
END:STANDARD
BEGIN:DAYLIGHT
TZOFFSETFROM:+0200
TZOFFSETTO:+0300
TZNAME:EEST
DTSTART:20210328T010000
END:DAYLIGHT
BEGIN:STANDARD
TZOFFSETFROM:+0300
TZOFFSETTO:+0200
TZNAME:EET
DTSTART:20211031T010000
END:STANDARD
END:VTIMEZONE
BEGIN:VEVENT
DTSTART;TZID=Europe/Helsinki:20200107T180000
DTEND;TZID=Europe/Helsinki:20200107T200000
DTSTAMP:20260426T044807
CREATED:20191211T083121Z
LAST-MODIFIED:20191211T083158Z
UID:32165-1578420000-1578427200@www.sinologie-goettingen.de
SUMMARY:Prof. Shigeru Akita (Professor of Global History\, Osaka University): British Economic Interests and the International Order of Asia in the 1930s
DESCRIPTION:Abstract:\nThe purpose of this talk is to reconsider the nature and formation of the ‘International Order of Asia’ in the 1930s in the light of new historiographical developments and to present a framework for the reconsideration of the ‘International Order of East Asia’ in the 1950s from the perspective of the continuities from previous decades.  The main focus of the argument is to evaluate the role played by the United Kingdom in the formation of the ‘International Order of Asia’ in the 1930s.
URL:https://www.sinologie-goettingen.de/en/events/prof-shigeru-akita-professor-of-global-history-osaka-university-british-economic-interests-and-the-international-order-of-asia-in-the-1930s/
LOCATION:Kulturwissenschaftliches Zentrum\, KWZ 1.701\, Heinrich-Düker-Weg 14\, Göttingen\, 37073\, Deutschland
END:VEVENT
END:VCALENDAR