BEGIN:VCALENDAR
VERSION:2.0
PRODID:-//Chinese Studies - ECPv6.15.20//NONSGML v1.0//EN
CALSCALE:GREGORIAN
METHOD:PUBLISH
X-ORIGINAL-URL:https://www.sinologie-goettingen.de/en/
X-WR-CALDESC:Events for Chinese Studies
REFRESH-INTERVAL;VALUE=DURATION:PT1H
X-Robots-Tag:noindex
X-PUBLISHED-TTL:PT1H
BEGIN:VTIMEZONE
TZID:Europe/Helsinki
BEGIN:DAYLIGHT
TZOFFSETFROM:+0200
TZOFFSETTO:+0300
TZNAME:EEST
DTSTART:20180325T010000
END:DAYLIGHT
BEGIN:STANDARD
TZOFFSETFROM:+0300
TZOFFSETTO:+0200
TZNAME:EET
DTSTART:20181028T010000
END:STANDARD
BEGIN:DAYLIGHT
TZOFFSETFROM:+0200
TZOFFSETTO:+0300
TZNAME:EEST
DTSTART:20190331T010000
END:DAYLIGHT
BEGIN:STANDARD
TZOFFSETFROM:+0300
TZOFFSETTO:+0200
TZNAME:EET
DTSTART:20191027T010000
END:STANDARD
BEGIN:DAYLIGHT
TZOFFSETFROM:+0200
TZOFFSETTO:+0300
TZNAME:EEST
DTSTART:20200329T010000
END:DAYLIGHT
BEGIN:STANDARD
TZOFFSETFROM:+0300
TZOFFSETTO:+0200
TZNAME:EET
DTSTART:20201025T010000
END:STANDARD
END:VTIMEZONE
BEGIN:VEVENT
DTSTART;TZID=Europe/Helsinki:20191203T160000
DTEND;TZID=Europe/Helsinki:20191203T180000
DTSTAMP:20260426T071017
CREATED:20191125T082148Z
LAST-MODIFIED:20191125T082227Z
UID:32128-1575388800-1575396000@www.sinologie-goettingen.de
SUMMARY:Yi-hsun Huang & Hsin-yi Lin: "Chan Studies based on the Rare Material Collection at Fo Guang University"
DESCRIPTION:Yi-hsun Huang: “Chan Master Hanyue’s Concept of Chan and Teachings”\nAbstract: This talk introduces Chan Master Hanyue’s 漢月 (1573–1635) attitude toward sūtra teachings in the late Ming by using a rare book\, Hanyue’s Guiding Words on the Zhizheng zhuan. Hanyue represents a mature and confident attitude towards sūtra teachings on the part of a Chan master during the late imperial period of Chinese Buddhism. \nHsin-yi Lin: “Meditation Illnesses”\nAbstract: In the history of meditation practice\, the concept of meditation illnesses or chanbing 禪病 has been brought out by several Chinese masters in different periods. This talk traces its multiple usages and points out the shift of meaning of the phrase in history by looking into a bunch of meditation texts during the medieval China. This changing understanding of the term may reflect the preponderance of the Sutra of Perfect Enlightenment and Zongmi’s commentary in later interpretation of the concept among meditation practitioners
URL:https://www.sinologie-goettingen.de/en/events/yi-hsun-huang-hsin-yi-lin-chan-studies-based-on-the-rare-material-collection-at-fo-guang-university/
LOCATION:Verfügungsgebäude\, VG 4.105\, Platz der Göttinger Sieben 7\, Göttingen\, 37073
END:VEVENT
END:VCALENDAR